BEGIN:VCALENDAR
VERSION:2.0
PRODID:-//Sport Seregno - ECPv6.9.0//NONSGML v1.0//EN
CALSCALE:GREGORIAN
METHOD:PUBLISH
X-WR-CALNAME:Sport Seregno
X-ORIGINAL-URL:https://sport.seregno.eu
X-WR-CALDESC:Eventi per Sport Seregno
REFRESH-INTERVAL;VALUE=DURATION:PT1H
X-Robots-Tag:noindex
X-PUBLISHED-TTL:PT1H
BEGIN:VTIMEZONE
TZID:UTC
BEGIN:STANDARD
TZOFFSETFROM:+0000
TZOFFSETTO:+0000
TZNAME:UTC
DTSTART:20250101T000000
END:STANDARD
END:VTIMEZONE
BEGIN:VEVENT
DTSTART;TZID=UTC:20250510T170000
DTEND;TZID=UTC:20250510T190000
DTSTAMP:20260419T225640
CREATED:20250423T091140Z
LAST-MODIFIED:20250423T091140Z
UID:954-1746896400-1746903600@sport.seregno.eu
SUMMARY:Vivere bene. L'attività fisica: cosa\, come\, quanto\, quando e perché
DESCRIPTION:INCONTRO CON L’AUTORE SILVIO GARATTINI \nVivere bene e più a lungo è possibile\, grazie ai consigli del Professor Garattini\, che illustra i vantaggi dell’esercizio fisico per la salute e spiega quali sono le condizioni e le giuste pratiche per ottenerne un beneficio. Tema centrale dell’incontro sarà l’importanza di adottare stili di vita sani in ogni fase della vita\, con un’attenzione particolare all’invecchiamento attivo\, alla corretta alimentazione\, alla pratica sportiva e alla consapevolezza individuale. \nSilvio Garattini\, è oncologo\, farmacologo e ricercatore italiano\, fondatore e presidente dell’Istituto di ricerche farmacologiche Mario Negri IRCCS di Milano e autore di centinaia di lavori scientifici pubblicati in riviste nazionali ed internazionali. \nModera Stefano Buzzi per BM Radio\nA cura di libreria Ubik \nPRENOTA SU EVENTBRITE
URL:https://sport.seregno.eu/eventi/vivere-bene-lattivita-fisica-cosa-come-quanto-quando-e-perche/
LOCATION:Sala Civica Monsignor Gandini\, Via XXIV Maggio\, 10\, Seregno\, Monza e Brianza\, 20831\, Italy
CATEGORIES:Conferenza
ATTACH;FMTTYPE=image/jpeg:https://sport.seregno.eu/wp-content/uploads/2025/04/silvio-garattini-oggi-4.jpg
END:VEVENT
BEGIN:VEVENT
DTSTART;TZID=UTC:20250509T210000
DTEND;TZID=UTC:20250509T230000
DTSTAMP:20260419T225640
CREATED:20250423T090110Z
LAST-MODIFIED:20250423T090110Z
UID:949-1746824400-1746831600@sport.seregno.eu
SUMMARY:Sport e mente: la calma in movimento
DESCRIPTION:Cyberbullismo e rischi della rete: anche lo sport non è immune. \nIncontro incentrato sulle condotte a rischio come la prevaricazione online e il cyberbullismo. I relatori inviteranno ad una riflessione sui rischi della rete\, sulle dinamiche legate al cyberbullismo e su come promuovere modalità relazionali che non si fondino sul divieto\, ma su un accompagnamento autentico e responsabile alle esperienze digitali. \nModeratore: Dr. Garofalo Umberto Psicologo Psicoterapeuta\, Presidente Majestic Volley\nRelatori: Dr.ssa Valtorta Mariella Psicologa esperta in Scienze Cognitive\, Direttore Sportivo Majestic Volley; Dr. Filippo Rosa Psicologo\, membro equipe Dipendenze Tecnologiche Istituto Minotauro; Dimitri Palma Sostituto Commissario della Polizia di Stato Questura di Monza.  \nA cura di Majestic Volley e Seishin do karate
URL:https://sport.seregno.eu/eventi/sport-e-mente-la-calma-in-movimento-2/
LOCATION:L’Auditorium\, Piazza Risorgimento\, Seregno\, Milano\, 20831\, Italy
CATEGORIES:Conferenza
ATTACH;FMTTYPE=image/jpeg:https://sport.seregno.eu/wp-content/uploads/2025/04/fattori-mentali-sport-1225x720-1.jpg
ORGANIZER;CN="Majestic Volley":MAILTO:info@volleyacademy.it
END:VEVENT
BEGIN:VEVENT
DTSTART;TZID=UTC:20250430T203000
DTEND;TZID=UTC:20250430T223000
DTSTAMP:20260419T225640
CREATED:20250325T103109Z
LAST-MODIFIED:20250325T103109Z
UID:862-1746045000-1746052200@sport.seregno.eu
SUMMARY:Mangiare Meglio per Vivere Meglio
DESCRIPTION:Professional Ballet Center propone un incontro su “Mangiare meglio per vivere meglio – l’importanza dello sport”. \nCon Martina Michienzi (nutizionista) e Alessandro Campiola (dietista).
URL:https://sport.seregno.eu/eventi/mangiare-meglio-per-vivere-meglio/
LOCATION:Milano
CATEGORIES:Conferenza
ATTACH;FMTTYPE=image/jpeg:https://sport.seregno.eu/wp-content/uploads/2025/03/Immagine-WhatsApp-2025-03-25-ore-09.45.35_e7735985.jpg
END:VEVENT
BEGIN:VEVENT
DTSTART;TZID=UTC:20250414T210000
DTEND;TZID=UTC:20250414T230000
DTSTAMP:20260419T225640
CREATED:20250318T152633Z
LAST-MODIFIED:20250318T152633Z
UID:845-1744664400-1744671600@sport.seregno.eu
SUMMARY:Educare con lo sport
DESCRIPTION:Il pedagogista Raffaele Mantegazza propone una riflessione su “Educare attraverso lo sport – Quando giochiamo insieme\, ogni diversità diventa una forza”. \nOrganizzazione Seregno Rugby
URL:https://sport.seregno.eu/eventi/educare-con-lo-sport-2/
LOCATION:Milano
CATEGORIES:Conferenza
ATTACH;FMTTYPE=image/jpeg:https://sport.seregno.eu/wp-content/uploads/2025/03/rugby14.jpg
END:VEVENT
BEGIN:VEVENT
DTSTART;TZID=UTC:20250410T210000
DTEND;TZID=UTC:20250410T230000
DTSTAMP:20260419T225640
CREATED:20250226T183940Z
LAST-MODIFIED:20250226T183940Z
UID:798-1744318800-1744326000@sport.seregno.eu
SUMMARY:Sogni Verticali tra Patagonia e Pakistan
DESCRIPTION:Il Cai sezione di Seregno propone un incontro con Chiara Gusmeroli e Matteo De Zaiacomo\, che raccontano le montagne di Patagonia e Pakistan.
URL:https://sport.seregno.eu/eventi/sogni-verticali-tra-patagonia-e-pakistan/
LOCATION:Milano
CATEGORIES:Conferenza
ATTACH;FMTTYPE=image/jpeg:https://sport.seregno.eu/wp-content/uploads/2025/02/volantino_gusmeroli-dezaiacomo_corretto-1-scaled.jpg
END:VEVENT
BEGIN:VEVENT
DTSTART;TZID=UTC:20250404T203000
DTEND;TZID=UTC:20250404T223000
DTSTAMP:20260419T225640
CREATED:20250314T165746Z
LAST-MODIFIED:20250314T165746Z
UID:819-1743798600-1743805800@sport.seregno.eu
SUMMARY:Educare con lo Sport
DESCRIPTION:Il Seregno Rugby propone una conferenza sulla prevenzione degli infortuni sportivi  \nRelatore Maurizio Ronchi\, ricercatore tecniche di prevenzione all’infortunio dello Sport.
URL:https://sport.seregno.eu/eventi/educare-con-lo-sport/
LOCATION:Milano
CATEGORIES:Conferenza
ATTACH;FMTTYPE=image/jpeg:https://sport.seregno.eu/wp-content/uploads/2025/03/04-04_Rugby-scaled.jpg
END:VEVENT
BEGIN:VEVENT
DTSTART;TZID=UTC:20250328T210000
DTEND;TZID=UTC:20250328T230000
DTSTAMP:20260419T225640
CREATED:20250319T161532Z
LAST-MODIFIED:20250319T162805Z
UID:851-1743195600-1743202800@sport.seregno.eu
SUMMARY:Sport e Mente: la Calma in Movimento
DESCRIPTION:Majestic Volley\, Seishin Do e Vero Volley promuovono un incontro che coinvolge psicologia\, benessere e sport.\nIntervengono gli psicologi Giada Maslanovic e Umberto Garofalo. \nVenerdì 28 marzo ore 21 – L’Auditorium di piazza Risorgimento \nPartecipazione gratuita – Prenotazioni https://www.eventbrite.it/e/sport-e-mente-la-calma-in-movimento-tickets-1285018678459?aff=oddtdtcreator
URL:https://sport.seregno.eu/eventi/sport-e-mente-la-calma-in-movimento/
LOCATION:Milano
CATEGORIES:Conferenza
ATTACH;FMTTYPE=image/jpeg:https://sport.seregno.eu/wp-content/uploads/2025/03/Locandina_28.3.20251.jpg
END:VEVENT
END:VCALENDAR