BEGIN:VCALENDAR
VERSION:2.0
PRODID:-//Sport Seregno - ECPv6.9.0//NONSGML v1.0//EN
CALSCALE:GREGORIAN
METHOD:PUBLISH
X-ORIGINAL-URL:https://sport.seregno.eu
X-WR-CALDESC:Eventi per Sport Seregno
REFRESH-INTERVAL;VALUE=DURATION:PT1H
X-Robots-Tag:noindex
X-PUBLISHED-TTL:PT1H
BEGIN:VTIMEZONE
TZID:UTC
BEGIN:STANDARD
TZOFFSETFROM:+0000
TZOFFSETTO:+0000
TZNAME:UTC
DTSTART:20250101T000000
END:STANDARD
END:VTIMEZONE
BEGIN:VEVENT
DTSTART;TZID=UTC:20250508T210000
DTEND;TZID=UTC:20250508T230000
DTSTAMP:20260422T115610
CREATED:20250423T081109Z
LAST-MODIFIED:20250423T084849Z
UID:940-1746738000-1746745200@sport.seregno.eu
SUMMARY:I miti del Rugby
DESCRIPTION:READING CON MARCO PASTONESI \nIspirandosi alle tante monografie che ha dedicato a storie di sport e personaggi “ovali”\, l’autore accompagna il pubblico in un viaggio tra i miti del rugby\, attraverso il racconto di club di culto e non\, dei campioni\, degli stadi\, dei tifosi\, delle mete segnate e delle azioni fallite. Un appuntamento imperdibile per gli appassionati e per chi è attratto dalle grandi storie di dedizione\, coraggio\, ribellione\, gioia che solo lo sport può dare. \nMarco Pastonesi\, ciclista\, genoano\, giornalista\, rugbista e scrittore (in rigoroso ordine alfabetico)\, vanta tra le sue pubblicazioni La leggenda di Maci\, L’uragano nero\, Ovalia\, Il Leone e il Corazziere\, La meta più bella della storia\, Il rugby\, il Galles\, Gareth e i suoi fratelli. \nPresentazione di Stefania Grimoldi\nA cura di Cartolibreria Biblos \nPRENOTA SU EVENTBRITE
URL:https://sport.seregno.eu/eventi/i-miti-del-rugby/
LOCATION:Sala Civica Monsignor Gandini\, Via XXIV Maggio\, 10\, Seregno\, Monza e Brianza\, 20831\, Italy
CATEGORIES:Eventi sportivi,Rugby,Teatro
ATTACH;FMTTYPE=image/webp:https://sport.seregno.eu/wp-content/uploads/2025/04/Marco-Pastonesi.webp
END:VEVENT
BEGIN:VEVENT
DTSTART;TZID=UTC:20250507T210000
DTEND;TZID=UTC:20250507T230000
DTSTAMP:20260422T115610
CREATED:20250423T080210Z
LAST-MODIFIED:20250423T084836Z
UID:935-1746651600-1746658800@sport.seregno.eu
SUMMARY:Altavia
DESCRIPTION:INCONTRO CON L’AUTORE SERGIO PETER \nTra sentieri immersi nella nebbia e bivacchi sperduti\, le pagine del romanzo di Sergio Peter portano ad esplorare il misterioso legame tra l’uomo e la natura selvaggia\, tra il conosciuto e l’ignoto.\nAl centro della narrazione ci sono tre ragazzi che si avventurano tra le Alpi alla ricerca di qualcosa di più di un rifugio fisico: un incontro con l’essenza della vita stessa. I lupi\, silenziosi e sfuggenti\, diventano il simbolo di questa ricerca\, presenza costante e inquietante che accompagna il loro viaggio invitando a riflettere su ciò che significa davvero vivere in armonia con ciò che ci circonda. \nSergio Peter vive e lavora a Milano. Ha studiato Filosofia. È autore di Dettato (2014). Altavia è il suo secondo romanzo.\n\nModera Angelo Chiodo per BM Radio\nA cura di Libreria Ubik \nPRENOTA SU EVENTBRITE
URL:https://sport.seregno.eu/eventi/altavia/
LOCATION:L’Auditorium\, Piazza Risorgimento\, Seregno\, Milano\, 20831\, Italy
CATEGORIES:Alpinismo,Eventi sportivi,Teatro
ATTACH;FMTTYPE=image/webp:https://sport.seregno.eu/wp-content/uploads/2025/04/sergio_peter.webp
END:VEVENT
BEGIN:VEVENT
DTSTART;TZID=UTC:20250506T210000
DTEND;TZID=UTC:20250506T230000
DTSTAMP:20260422T115610
CREATED:20250423T074821Z
LAST-MODIFIED:20250423T084817Z
UID:926-1746565200-1746572400@sport.seregno.eu
SUMMARY:La leggenda del pallavolista volante
DESCRIPTION:SPETTACOLO TEATRALE CON ANDREA ZORZI E BEATRICE VISIBELLI  \nTesto Nicola Zavagli\, Andrea Zorzi \nMovimenti coreografici Giulia Staccioli \nRegia Nicola Zavagli\nCompagnia Teatri d’imbarco \nLo sport incontra il teatro e si fa metafora della vita grazie al racconto della grande avventura di Andrea Zorzi detto “Zorro”\, il pallavolista due volte campione del mondo e tre volte campione europeo con l’indimenticabile Nazionale di Julio Velasco. Il palco si trasforma in un campo da pallavolo\, per rivivere le azioni mozzafiato\, le vittorie leggendarie e le sconfitte ancora brucianti della carriera di un autentico mito dello sport italiano. \nPRENOTA SU EVENTBRITE
URL:https://sport.seregno.eu/eventi/la-leggenda-del-pallavolista-volante-2/
LOCATION:L’Auditorium\, Piazza Risorgimento\, Seregno\, Milano\, 20831\, Italy
CATEGORIES:Eventi sportivi,Pallavolo,Teatro
ATTACH;FMTTYPE=image/jpeg:https://sport.seregno.eu/wp-content/uploads/2025/04/Leggenda-pallavolista.jpg
END:VEVENT
BEGIN:VEVENT
DTSTART;TZID=UTC:20250127T210000
DTEND;TZID=UTC:20250127T230000
DTSTAMP:20260422T115610
CREATED:20250114T165411Z
LAST-MODIFIED:20250114T165707Z
UID:682-1738011600-1738018800@sport.seregno.eu
SUMMARY:"Bartali. Dalla parte giusta"
DESCRIPTION:Nel Giorno della Memoria\, Cartanima propone uno spettacolo teatrale sulla vicenda di Gino Bartali\, ciclista insignito del titolo di Giusto tra le Nazioni. \nDrammaturgia di Andrea Di Cianni\, regia di Alberto Genovese. \n  Gratuito\, con prenotazione obbligatoria alla mail cartanima.prenotazioni@seregno.info
URL:https://sport.seregno.eu/eventi/bartali-dalla-parte-giusta/
LOCATION:L’Auditorium\, Piazza Risorgimento\, Seregno\, Milano\, 20831\, Italy
CATEGORIES:Teatro
ATTACH;FMTTYPE=image/jpeg:https://sport.seregno.eu/wp-content/uploads/2025/01/Immagine-WhatsApp-2025-01-13-ore-13.50.22_667e5dbcdd.jpg
ORGANIZER;CN="Cartanima":MAILTO:cartanima.prenotazioni@seregno.info
END:VEVENT
END:VCALENDAR