BEGIN:VCALENDAR
VERSION:2.0
PRODID:-//Sport Seregno - ECPv6.9.0//NONSGML v1.0//EN
CALSCALE:GREGORIAN
METHOD:PUBLISH
X-WR-CALNAME:Sport Seregno
X-ORIGINAL-URL:https://sport.seregno.eu
X-WR-CALDESC:Eventi per Sport Seregno
REFRESH-INTERVAL;VALUE=DURATION:PT1H
X-Robots-Tag:noindex
X-PUBLISHED-TTL:PT1H
BEGIN:VTIMEZONE
TZID:UTC
BEGIN:STANDARD
TZOFFSETFROM:+0000
TZOFFSETTO:+0000
TZNAME:UTC
DTSTART:20250101T000000
END:STANDARD
END:VTIMEZONE
BEGIN:VEVENT
DTSTART;TZID=UTC:20250507T210000
DTEND;TZID=UTC:20250507T230000
DTSTAMP:20260423T081936
CREATED:20250423T080210Z
LAST-MODIFIED:20250423T084836Z
UID:935-1746651600-1746658800@sport.seregno.eu
SUMMARY:Altavia
DESCRIPTION:INCONTRO CON L’AUTORE SERGIO PETER \nTra sentieri immersi nella nebbia e bivacchi sperduti\, le pagine del romanzo di Sergio Peter portano ad esplorare il misterioso legame tra l’uomo e la natura selvaggia\, tra il conosciuto e l’ignoto.\nAl centro della narrazione ci sono tre ragazzi che si avventurano tra le Alpi alla ricerca di qualcosa di più di un rifugio fisico: un incontro con l’essenza della vita stessa. I lupi\, silenziosi e sfuggenti\, diventano il simbolo di questa ricerca\, presenza costante e inquietante che accompagna il loro viaggio invitando a riflettere su ciò che significa davvero vivere in armonia con ciò che ci circonda. \nSergio Peter vive e lavora a Milano. Ha studiato Filosofia. È autore di Dettato (2014). Altavia è il suo secondo romanzo.\n\nModera Angelo Chiodo per BM Radio\nA cura di Libreria Ubik \nPRENOTA SU EVENTBRITE
URL:https://sport.seregno.eu/eventi/altavia/
LOCATION:L’Auditorium\, Piazza Risorgimento\, Seregno\, Milano\, 20831\, Italy
CATEGORIES:Alpinismo,Eventi sportivi,Teatro
ATTACH;FMTTYPE=image/webp:https://sport.seregno.eu/wp-content/uploads/2025/04/sergio_peter.webp
END:VEVENT
END:VCALENDAR