BEGIN:VCALENDAR
VERSION:2.0
PRODID:-//Sport Seregno - ECPv6.9.0//NONSGML v1.0//EN
CALSCALE:GREGORIAN
METHOD:PUBLISH
X-WR-CALNAME:Sport Seregno
X-ORIGINAL-URL:https://sport.seregno.eu
X-WR-CALDESC:Eventi per Sport Seregno
REFRESH-INTERVAL;VALUE=DURATION:PT1H
X-Robots-Tag:noindex
X-PUBLISHED-TTL:PT1H
BEGIN:VTIMEZONE
TZID:UTC
BEGIN:STANDARD
TZOFFSETFROM:+0000
TZOFFSETTO:+0000
TZNAME:UTC
DTSTART:20250101T000000
END:STANDARD
END:VTIMEZONE
BEGIN:VEVENT
DTSTART;TZID=UTC:20251210T210000
DTEND;TZID=UTC:20251210T230000
DTSTAMP:20260419T172930
CREATED:20251126T111519Z
LAST-MODIFIED:20251211T070633Z
UID:1378-1765400400-1765407600@sport.seregno.eu
SUMMARY:ESORDIENTI - INCONTRO CON ROSSELLA FIAMINGO
DESCRIPTION:Lisa Offside – content creator partita dai video commenti sul Fantacalcio su YouTube e approdata agli studi di Amazon Prime e alla Champions League\, dialoga con Rossella Fiamingo. \nClasse 1991\, schermitrice italiana\, specializzata nella spada\, Rossella Fiamingo ha conquistato ai Giochi olimpici tre medaglie\, una per metallo: a Rio 2016 ha vinto la medaglia d’argento\, scrivendo un importante capitolo della scherma azzurra in quanto primo successo olimpico individuale nella storia della spada femminile italiana; ha ottenuto il bronzo a squadre a Tokyo 2020; nel 2024 ha conquistato l’oro a squadre ai giochi olimpici di Parigi 2024. \nL’evento fa parte del format “Esordienti – I primi passi verso il successo”\, interviste e talk show a giovani atleti del panorama sportivo professionistico internazionale.\n_______ \nIngresso gratuito fino a esaurimento posti.\nPrenotazione consigliata al seguente link: rossella-fiammingo.eventbrite.it \nLa prenotazione è valida fino alle ore 20.50.\nSi consiglia di arrivare al teatro con dovuto anticipo.
URL:https://sport.seregno.eu/eventi/esordienti-inconto-con-rossella-fiammingo/
CATEGORIES:Talk
ATTACH;FMTTYPE=image/jpeg:https://sport.seregno.eu/wp-content/uploads/2025/11/70x100_fiamingo_web.jpg
END:VEVENT
BEGIN:VEVENT
DTSTART;TZID=UTC:20251202T180000
DTEND;TZID=UTC:20251202T200000
DTSTAMP:20260419T172930
CREATED:20251114T104509Z
LAST-MODIFIED:20251114T104509Z
UID:1367-1764698400-1764705600@sport.seregno.eu
SUMMARY:Essere Arbitro
DESCRIPTION:“Essere Arbitro – Regole\, responsabilità\, rispetto e coraggio” è il tema di un incontro promosso da Aia-Figc Sezione di Seregno.\nIntervengono gli arbitri internazionali Marco Guida e Simone Sozza. Conduce Maurizio Losa.
URL:https://sport.seregno.eu/eventi/essere-arbitro/
CATEGORIES:Conferenza
ATTACH;FMTTYPE=image/jpeg:https://sport.seregno.eu/wp-content/uploads/2025/11/Immagine-WhatsApp-2025-11-13-ore-14.53.38_46f8e19c.jpg
END:VEVENT
BEGIN:VEVENT
DTSTART;TZID=UTC:20251130T093000
DTEND;TZID=UTC:20251130T123000
DTSTAMP:20260419T172930
CREATED:20251021T100618Z
LAST-MODIFIED:20251021T101058Z
UID:1339-1764495000-1764505800@sport.seregno.eu
SUMMARY:Seregno Christmas Run
DESCRIPTION:Tradizionale appuntamento con la passeggiata ludico-motoria con i cappellini rossi \nIl ricavato della manifestazione sarà devoluto a Casa della Carità Papa Francesco. \nRitrovo ore 9.30 piazza Martiri della Libertà.\nOrganizzazione Gruppo Sportivo Avis
URL:https://sport.seregno.eu/eventi/seregno-christmas-run/
CATEGORIES:Eventi per tutti
ATTACH;FMTTYPE=image/jpeg:https://sport.seregno.eu/wp-content/uploads/2025/10/Immagine-WhatsApp-2025-10-16-ore-16.57.22_20358fd0.jpg
END:VEVENT
BEGIN:VEVENT
DTSTART;TZID=UTC:20251122T093000
DTEND;TZID=UTC:20251122T233000
DTSTAMP:20260419T172930
CREATED:20251120T172814Z
LAST-MODIFIED:20251120T172814Z
UID:1370-1763803800-1763854200@sport.seregno.eu
SUMMARY:Short Track
DESCRIPTION:La Salus Ciclistica organizza una manifestazione Short Track riservato alla categoria Giovanissimi.\nAppuntamento allo Skate Park Meroni di via Calamandrei
URL:https://sport.seregno.eu/eventi/short-track/
CATEGORIES:Ciclismo
ATTACH;FMTTYPE=image/jpeg:https://sport.seregno.eu/wp-content/uploads/2025/11/WhatsApp-Image-2025-11-20-at-14.08.26-1.jpeg
END:VEVENT
BEGIN:VEVENT
DTSTART;TZID=UTC:20251119T210000
DTEND;TZID=UTC:20251119T230000
DTSTAMP:20260419T172930
CREATED:20251021T095051Z
LAST-MODIFIED:20251021T095051Z
UID:1333-1763586000-1763593200@sport.seregno.eu
SUMMARY:GIACOMO AGOSTINI - AGO
DESCRIPTION:Giacomo Agostini\, il pilota più vincente della storia del motociclismo\, racconta la propria vita presentando il libro “Ago – Una vita da campione”\, scritto con Raffaele Sala. \nGiacomo Agostini racconta se stesso senza maschere\, ripercorrendo le curve decisive di un’esistenza che ha cambiato la storia del motociclismo. Dall’infanzia in Val Camonica ai primi giri sull’Aquilotto\, fino alla scintilla che accende un percorso fatto di velocità\, passione e coraggio. Non solo un campione imbattuto – con record ancora ineguagliati – ma un uomo che ha vissuto intensamente ogni traguardo\, in pista e fuori. \nCondotta da Maurizio Losa\, la serata è organizzata in collaborazione con la libreria Un mondo di libri. \nAppuntamento per mercoledì 19 novembre ore 21 ne L’Auditorium di piazza Risorgimento.\nIngresso libero
URL:https://sport.seregno.eu/eventi/giacomo-agostini-ago/
CATEGORIES:Talk
ATTACH;FMTTYPE=image/jpeg:https://sport.seregno.eu/wp-content/uploads/2025/10/Immagine-WhatsApp-2025-10-14-ore-16.00.28_1e218695.jpg
END:VEVENT
BEGIN:VEVENT
DTSTART;TZID=UTC:20251116T140000
DTEND;TZID=UTC:20251116T180000
DTSTAMP:20260419T172930
CREATED:20251028T085114Z
LAST-MODIFIED:20251028T085114Z
UID:1360-1763301600-1763316000@sport.seregno.eu
SUMMARY:Ak Rules
DESCRIPTION:Accademia Kama propone Ak Rules\, torneo di Grappling ad otto combattenti categoria oltre gli 85 chilogrammi. \nAlla Palestra Manzoni
URL:https://sport.seregno.eu/eventi/ak-rules/
CATEGORIES:Grappling
ATTACH;FMTTYPE=image/jpeg:https://sport.seregno.eu/wp-content/uploads/2025/10/Immagine-WhatsApp-2025-10-28-ore-09.46.40_5e553f57.jpg
END:VEVENT
BEGIN:VEVENT
DTSTART;TZID=UTC:20251116T083000
DTEND;TZID=UTC:20251116T120000
DTSTAMP:20260419T172930
CREATED:20250908T163037Z
LAST-MODIFIED:20250908T163407Z
UID:1286-1763281800-1763294400@sport.seregno.eu
SUMMARY:Camminata delle Città
DESCRIPTION:partenza ore 9\, Piazza Don Giussani a Desio / arrivo Seregno piazza del Mercato\nA cura di Dr Giovanni Casella + Famiglia Sala di Desio + AISP (Associazione Italiana Studio Pancreas)\nCon il supporto delle Sezioni AVIS di Seregno\, Desio e Limbiate
URL:https://sport.seregno.eu/eventi/1286/
CATEGORIES:Eventi per tutti
ATTACH;FMTTYPE=image/jpeg:https://sport.seregno.eu/wp-content/uploads/2025/09/Definitiva1.jpg
END:VEVENT
BEGIN:VEVENT
DTSTART;TZID=UTC:20251116T080000
DTEND;TZID=UTC:20251116T170000
DTSTAMP:20260419T172930
CREATED:20251010T161828Z
LAST-MODIFIED:20251013T082222Z
UID:1329-1763280000-1763312400@sport.seregno.eu
SUMMARY:Trofeo di Scherma Città di Seregno
DESCRIPTION:Il Comune di Seregno e Scherma Desio propongono la nona edizione del Trofeo di Scherma Città di Seregno.\nAl PalaSomaschini\, in programma gare di Spada e Fioretto open\, Spada Paralimpica e Spada per Non Vedenti \nIl programma completo a questo link
URL:https://sport.seregno.eu/eventi/trofeo-di-scherma-citta-di-seregno/
CATEGORIES:Scherma
ATTACH;FMTTYPE=image/webp:https://sport.seregno.eu/wp-content/uploads/2025/10/Locandina_Trofeo_Seregno_2025.webp
END:VEVENT
BEGIN:VEVENT
DTSTART;TZID=UTC:20251115T110000
DTEND;TZID=UTC:20251115T130000
DTSTAMP:20260419T172930
CREATED:20251023T164329Z
LAST-MODIFIED:20251023T164409Z
UID:1351-1763204400-1763211600@sport.seregno.eu
SUMMARY:Seminario con Manuel Pilato
DESCRIPTION:Per gli appassionati di Grappling\, Accademia Kama propone un seminario con il campione internazionale Manuel Pilato.
URL:https://sport.seregno.eu/eventi/seminario-con-manuel-pilato/
CATEGORIES:Grappling
ATTACH;FMTTYPE=image/jpeg:https://sport.seregno.eu/wp-content/uploads/2025/10/Immagine-WhatsApp-2025-10-23-ore-13.26.49_8fe9f675.jpg
END:VEVENT
BEGIN:VEVENT
DTSTART;TZID=UTC:20251114T210000
DTEND;TZID=UTC:20251114T223000
DTSTAMP:20260419T172930
CREATED:20251027T171357Z
LAST-MODIFIED:20251027T171357Z
UID:1354-1763154000-1763159400@sport.seregno.eu
SUMMARY:Lo sport che abilita
DESCRIPTION:Nell’Anno di Seregno Città Europea dello Sport\, presentazione di “Lo Sport che abilita”\, scritto da Vittorio Sironi e pubblicato nella collana i Ciculabet del Circolo Culturale Seregn de la Memoria. \nIl volume\, edito con il sostegno del Comune di Seregno\, racconta le vicende dello sport per disabili in città. \nAppuntamento presso la Biblioteca Civica Ettore Pozzoli.
URL:https://sport.seregno.eu/eventi/lo-sport-che-abilita/
CATEGORIES:Conferenza
ATTACH;FMTTYPE=image/jpeg:https://sport.seregno.eu/wp-content/uploads/2025/10/Immagine-WhatsApp-2025-10-24-ore-12.33.20_1ab0d9ce.jpg
END:VEVENT
BEGIN:VEVENT
DTSTART;TZID=UTC:20251113T200000
DTEND;TZID=UTC:20251113T230000
DTSTAMP:20260419T172930
CREATED:20251027T173218Z
LAST-MODIFIED:20251027T173218Z
UID:1358-1763064000-1763074800@sport.seregno.eu
SUMMARY:Prevenzione e Diagnosi Precoce del Cancro Pancreatico in Brianza
DESCRIPTION:Con l’obiettivo di presentare finalità e modalità di svolgimento della prossima “Camminata delel Città” che si svolgerà il 16 novembre 2025\, viene proposto il convegno “Prevenzione e Diagnosi Precoce del Cancro Pancreatico in Brianza”\, che ha come obiettivo di fare il punto sulle attuali conoscenze in materia di prevenzione\, fattori di rischio e diagnosi precoce del cancro al pancreas\, offrendo una panoramica completa per professionisti sanitari e cittadini. Questo il programma del Convegno\, che è a partecipazione libera. \nDalle ore 20:15 alle ore 21:00\nSaluti Istituzionali e Apertura dei Lavori\nModeratori:-\nDr. Giovanni Casella\, MMG Limbiate\, Gastroenterologo\nDr. Giovanni Ferrari\, Primario Chirurgia Oncologica\, Ospedale Niguarda Milano \nDalle ore 21 alle ore 21 La dimensione del Problema e la recente Istituzione delle Pancreas Unit in Regione Lombardia\nDr.ssa Silvia Carrara\, Presidente Associazione Italiana Studio Pancreas (AISP) \nDalle ore 21:20 alle ore 21:30 Presentazione Percorso Camminata delle Città 2025\nGlauco Menin\, Presidente Gruppo Marciatori Desio \nDalle ore 21:30 alle ore 21:50 Epidemiologia e Fattori di Rischio del Tumore del Pancreas\nDr. Luca Cavalieri d’Oro\, responsabile SC Epidemiologia ATS Brianza \nDalle ore 21:50 alle ore 22:20 Lettura Magistrale: Cancro Pancreatico ed Alimentazione\nDr. Salvatore Artale\, Primario Oncologica Medica ASST Brianza \nDalle ore 22:20 alle ore 22:40 Il Ruolo della Medicina del Territorio e il Sostegno ai Pazienti\nDr Giovanni Casella\, Medico di Medicina Generale\, ASST Brianza\, Limbiate (Monza Brianza) \nDalle 22:40:  Risposte alle domande del Pubblico
URL:https://sport.seregno.eu/eventi/prevenzione-e-diagnosi-precoce-del-cancro-pancreatico-in-brianza/
CATEGORIES:Conferenza
ATTACH;FMTTYPE=image/jpeg:https://sport.seregno.eu/wp-content/uploads/2025/09/Definitiva1.jpg
END:VEVENT
BEGIN:VEVENT
DTSTART;TZID=UTC:20251109T150000
DTEND;TZID=UTC:20251109T180000
DTSTAMP:20260419T172930
CREATED:20251023T163910Z
LAST-MODIFIED:20251023T163910Z
UID:1348-1762700400-1762711200@sport.seregno.eu
SUMMARY:Nuoto Oltre le Barriere
DESCRIPTION:Il Nuoto Club Seregno propone “Sport oltre le Barriere”\, meeting di nuoto per atleti con disabilità intellettiva e relazionale (Fisdir).\nAl Centro Natatorio Trabattoni
URL:https://sport.seregno.eu/eventi/nuoto-oltre-le-barriere/
CATEGORIES:Nuoto
ATTACH;FMTTYPE=image/jpeg:https://sport.seregno.eu/wp-content/uploads/2025/10/Immagine-WhatsApp-2025-10-23-ore-08.56.35_f01cfaa4.jpg
END:VEVENT
BEGIN:VEVENT
DTSTART;TZID=UTC:20251102T140000
DTEND;TZID=UTC:20251102T180000
DTSTAMP:20260419T172930
CREATED:20251028T085335Z
LAST-MODIFIED:20251028T085335Z
UID:1363-1762092000-1762106400@sport.seregno.eu
SUMMARY:Halloween Skate Party
DESCRIPTION:Skateboard Society propone Halloween Skate Party\, festa in maschera e skateboard challenge.\nAllo Skate Park di via Nenni.
URL:https://sport.seregno.eu/eventi/halloween-skate-party/
CATEGORIES:Skateboard
ATTACH;FMTTYPE=image/jpeg:https://sport.seregno.eu/wp-content/uploads/2025/10/Immagine-WhatsApp-2025-10-27-ore-18.36.48_a826c7db.jpg
END:VEVENT
BEGIN:VEVENT
DTSTART;TZID=UTC:20251027T090000
DTEND;TZID=UTC:20251027T223000
DTSTAMP:20260419T172930
CREATED:20251010T084759Z
LAST-MODIFIED:20251010T084759Z
UID:1322-1761555600-1761604200@sport.seregno.eu
SUMMARY:Anna Danesi - Un sogno d'oro
DESCRIPTION:Lunedì 27 ottobre 2025\, alle ore 20.00\, presso il Teatro San Rocco (Via Cavour 83\, Seregno)\, si terrà una serata speciale all’insegna dello sport\, della cultura e delle storie che ci ispirano. \nProtagonista dell’incontro sarà Anna Danesi\, centrale della nazionale italiana di pallavolo femminile\, fresca campionessa del mondo a Bangkok. L’atleta sarà intervistata dalla giornalista Roberta Noé\, in un dialogo appassionato che ripercorrerà le emozioni della recente vittoria e il lungo percorso che ha portato la squadra azzurra a scrivere una pagina indimenticabile della storia dello sport italiano. \nDurante la serata\, Danesi presenterà anche il suo libro “Un sogno d’oro”\, un racconto personale e autentico fatto di impegno\, sacrifici\, delusioni e vittorie. Un messaggio potente rivolto soprattutto ai più giovani: lo sport come scuola di vita\, luogo di valori e occasione per costruire il proprio futuro con coraggio e determinazione. \nL’evento è organizzato da ACEC Diocesi di Milano\, in collaborazione con Giffoni Experience\, con il patrocinio di CSI Comitato di Milano e con il contributo di Regione Lombardia e del patrocinio del Comune di Seregno\, nell’ambito del progetto “Le Olimpiadi della Cultura nelle Comunità”\, pensato per avvicinare i territori e le giovani generazioni ai temi delle prossime Olimpiadi e Paralimpiadi Invernali Milano-Cortina 2026\, attraverso appuntamenti culturali e formativi. \nPrenotazione obbligatoria su EventBrite – Ingresso gratuito fino a esaurimento posti.
URL:https://sport.seregno.eu/eventi/anna-danesi-un-sogno-doro/
CATEGORIES:Talk
ATTACH;FMTTYPE=image/jpeg:https://sport.seregno.eu/wp-content/uploads/2025/10/Immagine-WhatsApp-2025-10-08-ore-12.32.39_a5cc2371.jpg
END:VEVENT
BEGIN:VEVENT
DTSTART;TZID=UTC:20251026T080000
DTEND;TZID=UTC:20251026T123000
DTSTAMP:20260419T172930
CREATED:20251021T101348Z
LAST-MODIFIED:20251021T102101Z
UID:1342-1761465600-1761481800@sport.seregno.eu
SUMMARY:Strabrianza
DESCRIPTION:Torna la tradizionale (48.esima edizione) Camminata Avisina – Strabrianza\, camminata non competitiva di 6-14-22 chilomentri.\nOrganizzazione Gs Avis Seregno.\nPartenza da Piazza Linate a partire dalle ore 8.
URL:https://sport.seregno.eu/eventi/strabrianza/
CATEGORIES:Eventi per tutti
ATTACH;FMTTYPE=image/jpeg:https://sport.seregno.eu/wp-content/uploads/2025/10/558919192_1366107828858052_6434621564563868980_n-1.jpg
END:VEVENT
BEGIN:VEVENT
DTSTART;TZID=UTC:20251025T140000
DTEND;TZID=UTC:20251025T190000
DTSTAMP:20260419T172930
CREATED:20251021T125337Z
LAST-MODIFIED:20251021T132715Z
UID:1345-1761400800-1761418800@sport.seregno.eu
SUMMARY:Trofeo dei Sei Comuni
DESCRIPTION:Il Seregno Rugby propone la quindicesima edizione del Torneo dei Sei Comuni riservato a formazioni della categoria Old.\nAl Centro Sportivo Trabattoni a partire dalle ore 14.
URL:https://sport.seregno.eu/eventi/trofeo-dei-sei-comuni/
CATEGORIES:Rugby
ATTACH;FMTTYPE=image/jpeg:https://sport.seregno.eu/wp-content/uploads/2025/10/facebook_1761047636146_7386369144480058051.jpg
END:VEVENT
BEGIN:VEVENT
DTSTART;TZID=UTC:20251024T180000
DTEND;TZID=UTC:20251024T200000
DTSTAMP:20260419T172930
CREATED:20251021T100300Z
LAST-MODIFIED:20251021T100300Z
UID:1336-1761328800-1761336000@sport.seregno.eu
SUMMARY:Incontro con Mauro Bergamasco
DESCRIPTION:Venerdì 24 ottobre 2025\, alle ore 18\, presso L’Auditorium (Piazza Risorgimento\, Seregno)\, si terrà un’intervista esclusiva a Mauro Bergamasco\, campione e volto storico del rugby nazionale e internazionale. \nMauro Bergamasco (classe 1979) è un ex rugbista a 15 italiano\, in carriera terza linea ala vincitore di due scudetti col Benetton e due campionati francesi con lo Stade français; 106 volte internazionale per l’Italia dal 1998 al 2015\, ha preso parte a cinque edizioni della Coppa del Mondo di rugby. \nL’intervista sarà condotta da Maurizio Losa – ex vicedirettore di Rai Sport. \nIngresso gratuito fino a esaurimento posti.\nPrenotazione consigliata al seguente link: https://mauro-bergamasco.eventbrite.it
URL:https://sport.seregno.eu/eventi/incontro-con-mauro-bergamasco/
CATEGORIES:Talk
ATTACH;FMTTYPE=image/jpeg:https://sport.seregno.eu/wp-content/uploads/2025/10/565811900_1322362489900911_5144356193724295665_n.jpg
END:VEVENT
BEGIN:VEVENT
DTSTART;TZID=UTC:20251018T203000
DTEND;TZID=UTC:20251018T220000
DTSTAMP:20260419T172930
CREATED:20251010T085547Z
LAST-MODIFIED:20251010T085547Z
UID:1325-1760819400-1760824800@sport.seregno.eu
SUMMARY:Corrinseregno
DESCRIPTION:Atletica 5 Cerchi organizza Corrinseregno 2025\, gara di corsa su strada per le categorie Esordienti\, Ragazzi e Cadetti.\nLa gara fa parte del calendario ufficiale di Fidal Milano.
URL:https://sport.seregno.eu/eventi/corrinseregno/
CATEGORIES:Atletica Leggera
ATTACH;FMTTYPE=image/jpeg:https://sport.seregno.eu/wp-content/uploads/2025/10/Locandina-CorrInSeregno-2025_griglia_Pagina_1.jpg
END:VEVENT
BEGIN:VEVENT
DTSTART;TZID=UTC:20251018T153000
DTEND;TZID=UTC:20251018T190000
DTSTAMP:20260419T172930
CREATED:20251003T090159Z
LAST-MODIFIED:20251013T082151Z
UID:1316-1760801400-1760814000@sport.seregno.eu
SUMMARY:IN CAMPO LA NAZIONALE ITALIANA SINDACI
DESCRIPTION:La Nazionale Italiana Sindaci sfida una rappresentativa delle associazioni calcistiche seregnesi in un evento benefico a favore di Casa della Carità. \nPer informazioni e prenotazione dei biglietti\, info@casadellacaritaseregno.it
URL:https://sport.seregno.eu/eventi/in-campo-la-nazionale-italiana-sindaci/
CATEGORIES:Calcio
ATTACH;FMTTYPE=image/jpeg:https://sport.seregno.eu/wp-content/uploads/2025/10/Immagine-WhatsApp-2025-10-01-ore-11.18.31_8a5026a9.jpg
END:VEVENT
BEGIN:VEVENT
DTSTART;TZID=UTC:20251015T210000
DTEND;TZID=UTC:20251015T230000
DTSTAMP:20260419T172930
CREATED:20250912T140607Z
LAST-MODIFIED:20250912T140723Z
UID:1292-1760562000-1760569200@sport.seregno.eu
SUMMARY:Ouch! Che Dolore!
DESCRIPTION:Ouch! Che Dolore! – Quando è il momento di ascoltare il  nostro corpo\nIncontro in Sala Gandini – Ingresso libero. \nIL PROGRAMMA DELLA SERATA \nIl tema principale della serata sarà il dolore muscolare e osteo-articolare.\nUn occasione per approfondire questa tematica attraverso l’approccio olistico. La finalità sarà quella di sensibilizzare il pubblico su sani stili di vita\, sana alimentazione e un uso cor retto dei farmaci antinfiammatori al fine di ridurre l’infiammazione cronica. \nore 21 – Trauma ginocchio e spalla\, cosa fare e cosa non fare\nChirurgo ortopedico Dr. Carlo Sala \nore 21:30 – Integrazione a suppor to del dolore muscolare acuto e cronico e utilizzo cor retto degli antinfiammatori non steoidei\nFarmacista Dr. Roberto Camnasio \nore 22 – Correlazione muscolo-meridiano ed esercizi a supporto del benessere osteo-articolare\nOsteopata Diego Sangiorgio \nore 22:30 l’importanza dell’anamnesi e analisi posturale per la logica della Causa Effetto delle catene muscolari. Lavoro di\nstretching globale decompensato Raggi Method® con Pancafit®\nMassotrapista Alessandra Trabattoni
URL:https://sport.seregno.eu/eventi/ouch-che-dolore/
CATEGORIES:Conferenza
ATTACH;FMTTYPE=image/jpeg:https://sport.seregno.eu/wp-content/uploads/2025/09/oucc-1.jpg
END:VEVENT
BEGIN:VEVENT
DTSTART;TZID=UTC:20251013T210000
DTEND;TZID=UTC:20251013T230000
DTSTAMP:20260419T172930
CREATED:20251003T084707Z
LAST-MODIFIED:20251003T084707Z
UID:1313-1760389200-1760396400@sport.seregno.eu
SUMMARY:ESORDIENTI - INCONTRO CON CRISTIANA GIRELLI
DESCRIPTION:Lisa Offside – content creator partita dai video commenti sul Fantacalcio su Youtube e approdata agli studi di Amazon Prime e alla Champions League\, dialoga con Cristiana Girelli: calciatrice italiana\, attaccante della Juventus e Capitana della Nazionale Italiana.\nConsiderata una delle calciatrici più forti della sua generazione\, dal 2022 figura nella Hall of Fame del calcio italiano. \nL’evento fa parte del format “Esordienti – I primi passi verso il successo”\, interviste e talk show a giovani atleti del panorama sportivo professionistico internazionale.  \nL’ingresso è gratuito con prenotazione obbligatoria su Eventbrite a partire dalle ore 10.00 di venerdì 03 ottobre.\nprenota qui \nLa prenotazione sarà valida fino a 10 minuti prima dell’inizio della serata\, dopodiché i posti non occupati saranno riassegnati. \nPer informazioni:\nServizio Sport\nstaff.sport@seregno.info\n0362.263.449 \nOrari di apertura\nlun – merc – ven: 8.30-14.00\nmart. – giov: 8.30-13.00 / 14.00-18.00
URL:https://sport.seregno.eu/eventi/esordienti-incontro-con-cristiana-girelli/
CATEGORIES:Talk
ATTACH;FMTTYPE=image/jpeg:https://sport.seregno.eu/wp-content/uploads/2025/10/A3_Girelli.jpg
END:VEVENT
BEGIN:VEVENT
DTSTART;TZID=UTC:20250930T090000
DTEND;TZID=UTC:20250930T223000
DTSTAMP:20260419T172930
CREATED:20250912T142112Z
LAST-MODIFIED:20250912T142112Z
UID:1305-1759222800-1759271400@sport.seregno.eu
SUMMARY:Settimana europea dello sport
DESCRIPTION:Nell’ambito della Settimana Europea dello Sport promossa da Aces Europe\, il Gruppo di Cammino invita tutti ad una passeggiata nel parco. Iniziativa aperta a tutti\, partenza da viale Tiziano di fronte alla chiesa.
URL:https://sport.seregno.eu/eventi/settimana-europea-dello-sport-3/
CATEGORIES:Eventi per tutti
ATTACH;FMTTYPE=image/jpeg:https://sport.seregno.eu/wp-content/uploads/2025/09/Immagine-WhatsApp-2025-09-10-ore-15.52.01_46199513.jpg
END:VEVENT
BEGIN:VEVENT
DTSTART;TZID=UTC:20250928T090000
DTEND;TZID=UTC:20250928T220000
DTSTAMP:20260419T172930
CREATED:20250912T141809Z
LAST-MODIFIED:20250912T141809Z
UID:1303-1759050000-1759096800@sport.seregno.eu
SUMMARY:Settimana europea dello sport
DESCRIPTION:Nell’ambito della Settimana Europea dello Sport promossa da Aces Europe\, Postural Lab invita tutti a RISVEGLIO MUSCOLARE\, appuntamento per un’ora di allenamento insieme. Iniziativa aperta a tutti\, Parco Porada (zona Green Park).
URL:https://sport.seregno.eu/eventi/settimana-europea-dello-sport-2/
CATEGORIES:Eventi per tutti
ATTACH;FMTTYPE=image/jpeg:https://sport.seregno.eu/wp-content/uploads/2025/09/Immagine-WhatsApp-2025-09-10-ore-15.52.01_46199513.jpg
END:VEVENT
BEGIN:VEVENT
DTSTART;TZID=UTC:20250928T080000
DTEND;TZID=UTC:20250928T143000
DTSTAMP:20260419T172930
CREATED:20250922T083353Z
LAST-MODIFIED:20250922T083411Z
UID:1309-1759046400-1759069800@sport.seregno.eu
SUMMARY:Concorso Ippico di Salto a Ostacoli Sociale
DESCRIPTION:Il Centro Ippico il Dosso propone il Concorso Ippico di Salto a Ostacoli Sociale \nAppuntamento dalle ore 8 in via Dosso.
URL:https://sport.seregno.eu/eventi/concorso-ippico-di-salto-a-ostacoli-sociale/
CATEGORIES:Equitazione
ATTACH;FMTTYPE=image/jpeg:https://sport.seregno.eu/wp-content/uploads/2025/09/Immagine-WhatsApp-2025-09-19-ore-19.33.48_aad51021.jpg
END:VEVENT
BEGIN:VEVENT
DTSTART;TZID=UTC:20250924T193000
DTEND;TZID=UTC:20250924T210000
DTSTAMP:20260419T172930
CREATED:20250908T161251Z
LAST-MODIFIED:20250912T141643Z
UID:1277-1758742200-1758747600@sport.seregno.eu
SUMMARY:Settimana europea dello sport
DESCRIPTION:Nell’ambito della Settimana Europea dello Sport promossa da Aces Europe\, Gruppo Camosci invita tutti a NORDIC WALKING NIGHT\, camminata con i bastoncini attraverso il bosco. Iniziativa aperta a tutti\, partenza parco di viale Tiziano.
URL:https://sport.seregno.eu/eventi/nordic-walking-night-11/
CATEGORIES:Eventi per tutti
ATTACH;FMTTYPE=image/jpeg:https://sport.seregno.eu/wp-content/uploads/2025/09/Immagine-WhatsApp-2025-09-10-ore-15.52.01_46199513.jpg
END:VEVENT
BEGIN:VEVENT
DTSTART;TZID=UTC:20250924T190000
DTEND;TZID=UTC:20250924T200000
DTSTAMP:20260419T172930
CREATED:20250912T141359Z
LAST-MODIFIED:20250912T141359Z
UID:1296-1758740400-1758744000@sport.seregno.eu
SUMMARY:Settimana Europea dello Sport
DESCRIPTION:Nell’ambito della Settimana Europea dello Sport promossa da Aces Europe\, Porada Run invita tutti a CORRI A CONOSCERCI\, appuntamento per un’ora di corsa insieme.\nIniziativa aperta a tutti\, partenza Parco Porada (parcheggio campo di rugby)
URL:https://sport.seregno.eu/eventi/settimana-europea-dello-sport/
CATEGORIES:Eventi per tutti
ATTACH;FMTTYPE=image/jpeg:https://sport.seregno.eu/wp-content/uploads/2025/09/Immagine-WhatsApp-2025-09-10-ore-15.52.01_46199513.jpg
END:VEVENT
BEGIN:VEVENT
DTSTART;TZID=UTC:20250921T093000
DTEND;TZID=UTC:20250921T190000
DTSTAMP:20260419T172930
CREATED:20250908T162328Z
LAST-MODIFIED:20250908T162328Z
UID:1283-1758447000-1758481200@sport.seregno.eu
SUMMARY:Trofeo Alberto Scolari
DESCRIPTION:Tradizionale trofeo Alberto Scolari di Basket in Carrozzina.\nCon Vigor Seregno\, Nord Est Castelvecchio\, Albatros Trento e Delfini Vicenza.\nAl PalaSomaschini
URL:https://sport.seregno.eu/eventi/trofeo-alberto-scolari/
CATEGORIES:Pallacanestro in Carrozzina
ATTACH;FMTTYPE=image/jpeg:https://sport.seregno.eu/wp-content/uploads/2025/09/Immagine-WhatsApp-2025-09-04-ore-18.26.38_a6e0c7a9.jpg
END:VEVENT
BEGIN:VEVENT
DTSTART;TZID=UTC:20250920T113000
DTEND;TZID=UTC:20250921T143000
DTSTAMP:20260419T172930
CREATED:20250804T081127Z
LAST-MODIFIED:20250804T081127Z
UID:1253-1758367800-1758465000@sport.seregno.eu
SUMMARY:Campionato Italiano Vespistico Regolarità
DESCRIPTION:Il Vespa Club Seregno organizza il Campionato Italiano Vespistico Regolarità. Prove il sabato pomeriggio e la domenica mattina.\nPartenza delle prove sabato 20 alle ore 14 da piazzale Santuario e domenica alle ore 7.30 da Rns di via Macallè.
URL:https://sport.seregno.eu/eventi/campionato-italiano-vespistico-regolarita/
CATEGORIES:Motori
ATTACH;FMTTYPE=image/jpeg:https://sport.seregno.eu/wp-content/uploads/2025/08/vespa.jpg
END:VEVENT
BEGIN:VEVENT
DTSTART;TZID=UTC:20250919T210000
DTEND;TZID=UTC:20250919T230000
DTSTAMP:20260419T172930
CREATED:20250828T103410Z
LAST-MODIFIED:20250828T103410Z
UID:1270-1758315600-1758322800@sport.seregno.eu
SUMMARY:La Montagna Sacra
DESCRIPTION:Nell’ambito della tradizionale serata sociale (con consegna delle benemerenze ai soci più fedeli)\, il Gruppo Camosci propone un incontro con Enrico Camanni\, che presenta il suo libro “La Montagna Sacra”. In Sala Gandini.
URL:https://sport.seregno.eu/eventi/la-montagna-sacra/
CATEGORIES:Talk
ATTACH;FMTTYPE=image/jpeg:https://sport.seregno.eu/wp-content/uploads/2025/08/images.jpeg
END:VEVENT
BEGIN:VEVENT
DTSTART;VALUE=DATE:20250919
DTEND;VALUE=DATE:20250922
DTSTAMP:20260419T172930
CREATED:20250828T104702Z
LAST-MODIFIED:20250916T111815Z
UID:1273-1758240000-1758499199@sport.seregno.eu
SUMMARY:Giangio Forever
DESCRIPTION:Il Basket Seregno propone la decima edizione del Torneo Giangio riservato a formazioni Under 13 maschili.\nIl torneo\, che si svolgerà al Pala Don Milani\, è intitolato alla memoria di Gianluigi “Giangio” Muscia\, giocatore del Basket Seregno morto undici anni fa all’età di undici anni.
URL:https://sport.seregno.eu/eventi/giangio-forever/
CATEGORIES:Pallacanestro
ATTACH;FMTTYPE=image/jpeg:https://sport.seregno.eu/wp-content/uploads/2025/08/Gianluca-300x288-1.jpg
END:VEVENT
END:VCALENDAR