BEGIN:VCALENDAR
VERSION:2.0
PRODID:-//Sport Seregno - ECPv6.9.0//NONSGML v1.0//EN
CALSCALE:GREGORIAN
METHOD:PUBLISH
X-WR-CALNAME:Sport Seregno
X-ORIGINAL-URL:https://sport.seregno.eu
X-WR-CALDESC:Eventi per Sport Seregno
REFRESH-INTERVAL;VALUE=DURATION:PT1H
X-Robots-Tag:noindex
X-PUBLISHED-TTL:PT1H
BEGIN:VTIMEZONE
TZID:UTC
BEGIN:STANDARD
TZOFFSETFROM:+0000
TZOFFSETTO:+0000
TZNAME:UTC
DTSTART:20250101T000000
END:STANDARD
END:VTIMEZONE
BEGIN:VEVENT
DTSTART;TZID=UTC:20250514T080000
DTEND;TZID=UTC:20250514T170000
DTSTAMP:20260423T010928
CREATED:20250514T165227Z
LAST-MODIFIED:20250514T165227Z
UID:1045-1747209600-1747242000@sport.seregno.eu
SUMMARY:Trofeo Effebiquattro di Atletica Leggera
DESCRIPTION:Atletica 5 Cerchi propone\, allo Stadio Ferruccio\, la 35.esima edizione della Coppa Città di Seregno Trofeo Effebiquattro dedicata agli alunni delle scuole primarie.
URL:https://sport.seregno.eu/eventi/trofeo-effebiquattro-di-atletica-leggera/
CATEGORIES:Atletica Leggera
ATTACH;FMTTYPE=image/png:https://sport.seregno.eu/wp-content/uploads/2025/05/Volantino-35°-Trofeo-Effebiquattro_24-05-2025.png
END:VEVENT
BEGIN:VEVENT
DTSTART;TZID=UTC:20250513T080000
DTEND;TZID=UTC:20250513T130000
DTSTAMP:20260423T010928
CREATED:20250423T131003Z
LAST-MODIFIED:20250423T131003Z
UID:1007-1747123200-1747141200@sport.seregno.eu
SUMMARY:Giochi Studenteschi di Tennis
DESCRIPTION:Al Centro del Tennis della Porada\, gli alunni dei primi due anni delle scuole primarie e quelli delle scuole secondarie di primo grafo della città sono impegnate nei Giochi Studenteschi di Tennis. In collaborazione con Erreci Progetto Tennis.
URL:https://sport.seregno.eu/eventi/giochi-studenteschi-di-tennis/
CATEGORIES:Giochi Studenteschi
ATTACH;FMTTYPE=image/jpeg:https://sport.seregno.eu/wp-content/uploads/2025/01/Immagine-WhatsApp-2025-01-20-ore-11.41.19_5da0120c.jpg
END:VEVENT
BEGIN:VEVENT
DTSTART;TZID=UTC:20250511T170000
DTEND;TZID=UTC:20250511T190000
DTSTAMP:20260423T010928
CREATED:20250423T092702Z
LAST-MODIFIED:20250423T092702Z
UID:964-1746982800-1746990000@sport.seregno.eu
SUMMARY:Corpi che contano
DESCRIPTION:INCONTRO CON L’AUTRICE NADEESHA UYANGODA \nEsistono davvero gli sport «da femmine» e quelli «da maschi»?\nQuanto contano la condizione economica\, il colore della pelle\, il genere e la fortuna per avere successo? Quanto è radicato il razzismo nelle piste di atletica o nei campi da calcio? È vero che certi gruppi etnici hanno una naturale predisposizione alla velocità\, alla resistenza\, alla sopportazione del dolore? Sono alcuni dei temi che l’autrice indaga nel suo libro\, affrontando il complesso rapporto tra corpo e pratica sportiva\, alternando il racconto autobiografico alla narrazione di alcuni momenti storici chiave\, in cui lo sport – strumento di dominio politico e di egemonia culturale\, ma anche grimaldello per abbattere muri e smontare falsi miti – ha contribuito in modo determinante a costruire le nostre identità. \nNadeesha Uyangoda è nata in Sri Lanka\, ma vive in Italia. È autrice del libro L’unica persona nera nella stanza e ideatrice di Sulla Razza\, un podcast che traduce parole e concetti sulla questione razziale dal contesto angloamericano alla società italiana. Ha scritto per media nazionali e stranieri\, tra cui Internazionale\, Open Democracy\, Al Jazeera English\, Telegraph\, La Stampa\, Robinson di Repubblica. \nModerano Cristina Farè e Greta Bassi\nA cura di libreria Ubik \nPRENOTA SU EVENTBRITE
URL:https://sport.seregno.eu/eventi/corpi-che-contano/
LOCATION:L’Auditorium\, Piazza Risorgimento\, Seregno\, Milano\, 20831\, Italy
CATEGORIES:Conferenza
ATTACH;FMTTYPE=image/jpeg:https://sport.seregno.eu/wp-content/uploads/2025/04/185600364-cd0d8ff6-9bdc-44e2-a02d-cd1c8157dde5.jpg
END:VEVENT
BEGIN:VEVENT
DTSTART;TZID=UTC:20250511T100000
DTEND;TZID=UTC:20250511T140000
DTSTAMP:20260423T010928
CREATED:20250226T172120Z
LAST-MODIFIED:20250226T172227Z
UID:775-1746957600-1746972000@sport.seregno.eu
SUMMARY:U14 Seregno Cup
DESCRIPTION:Il Seregno Rugby organizza un torneo quadrangolare Under 14.
URL:https://sport.seregno.eu/eventi/u14-seregno-cup/
CATEGORIES:Rugby
ATTACH;FMTTYPE=image/jpeg:https://sport.seregno.eu/wp-content/uploads/2025/02/Immagine-WhatsApp-2025-02-25-ore-09.42.09_bbd084fc.jpg
END:VEVENT
BEGIN:VEVENT
DTSTART;TZID=UTC:20250511T093000
DTEND;TZID=UTC:20250511T183000
DTSTAMP:20260423T010928
CREATED:20250402T145348Z
LAST-MODIFIED:20250402T145348Z
UID:873-1746955800-1746988200@sport.seregno.eu
SUMMARY:Trofeo Lions Basket in Carrozzina
DESCRIPTION:Quadrangolare di pallacanestro in carrozzina con Vigor Seregno\, Uicep Torino\, Olympic Verona e Gioco Parma.
URL:https://sport.seregno.eu/eventi/trofeo-lions-basket-in-carrozzina/
CATEGORIES:Pallacanestro in Carrozzina
ATTACH;FMTTYPE=image/jpeg:https://sport.seregno.eu/wp-content/uploads/2025/04/05-11_Basket_carrozzina_Vigor.jpg
END:VEVENT
BEGIN:VEVENT
DTSTART;TZID=UTC:20250511T093000
DTEND;TZID=UTC:20250511T133000
DTSTAMP:20260423T010928
CREATED:20250505T172430Z
LAST-MODIFIED:20250505T172430Z
UID:1021-1746955800-1746970200@sport.seregno.eu
SUMMARY:Volley School Manu Benelli
DESCRIPTION:Settimo appuntamento dell’anno solare con il corso – masterclass con la allenatrice Manuela Benelli. Evento proposto da Majestic Volley
URL:https://sport.seregno.eu/eventi/volley-school-manu-benelli-8/
CATEGORIES:Pallavolo
ATTACH;FMTTYPE=image/jpeg:https://sport.seregno.eu/wp-content/uploads/2025/01/Immagine-WhatsApp-2024-12-27-ore-15.39.36_bd7701be.jpg
END:VEVENT
BEGIN:VEVENT
DTSTART;TZID=UTC:20250510T210000
DTEND;TZID=UTC:20250510T230000
DTSTAMP:20260423T010928
CREATED:20250423T091732Z
LAST-MODIFIED:20250423T091803Z
UID:958-1746910800-1746918000@sport.seregno.eu
SUMMARY:Una vita presa a bracciate
DESCRIPTION:INCONTRO CON L’AUTORE PAOLO CHIARINO \n«A guardarmi\, nessuno mi darebbe dell’atleta. Ho pure la pancetta. Eppure\, l’Ice Swimming è il mio sport. Le acque fredde\, in effetti\, gelide\, sono il mio elemento naturale. Soffro come una bestia\, ovviamente\, ma gioisco come mi capita solo quando il Genoa va a rete». Così l’autore descrive la sua passione per nuotate e mondi gelidi: dallo stretto di Bering all’Isola di Catalina e al Perito Moreno\, fino dentro il ghiacciaio di Hintertux a 3200 metri e nel lago più alto delle Alpi\, il Matscherjochsee a 3188 metri. un tuffo fra decine di avventure tutte rigorosamente sotto i 5°. \nPaolo Chiarino è una delle pochissime persone al mondo ad aver nuotato sia al Polo nord che al Polo sud. Tra i pionieri dell’ Ice swimming è entrato nella Hall of fame dell’Ice Swimming nel 2023\, detiene diversi record Italiani\, come quello dell’Ice KM a temperatura più bassa (-1\,2 C). \nModera Eva Musci\nA cura di libreria Un mondo di libri \nPRENOTA SU EVENTBRITE
URL:https://sport.seregno.eu/eventi/una-vita-presa-a-bracciate/
LOCATION:L’Auditorium\, Piazza Risorgimento\, Seregno\, Milano\, 20831\, Italy
CATEGORIES:Conferenza
ATTACH;FMTTYPE=image/jpeg:https://sport.seregno.eu/wp-content/uploads/2025/04/unnamed-1.jpg
END:VEVENT
BEGIN:VEVENT
DTSTART;TZID=UTC:20250510T170000
DTEND;TZID=UTC:20250510T190000
DTSTAMP:20260423T010928
CREATED:20250423T091140Z
LAST-MODIFIED:20250423T091140Z
UID:954-1746896400-1746903600@sport.seregno.eu
SUMMARY:Vivere bene. L'attività fisica: cosa\, come\, quanto\, quando e perché
DESCRIPTION:INCONTRO CON L’AUTORE SILVIO GARATTINI \nVivere bene e più a lungo è possibile\, grazie ai consigli del Professor Garattini\, che illustra i vantaggi dell’esercizio fisico per la salute e spiega quali sono le condizioni e le giuste pratiche per ottenerne un beneficio. Tema centrale dell’incontro sarà l’importanza di adottare stili di vita sani in ogni fase della vita\, con un’attenzione particolare all’invecchiamento attivo\, alla corretta alimentazione\, alla pratica sportiva e alla consapevolezza individuale. \nSilvio Garattini\, è oncologo\, farmacologo e ricercatore italiano\, fondatore e presidente dell’Istituto di ricerche farmacologiche Mario Negri IRCCS di Milano e autore di centinaia di lavori scientifici pubblicati in riviste nazionali ed internazionali. \nModera Stefano Buzzi per BM Radio\nA cura di libreria Ubik \nPRENOTA SU EVENTBRITE
URL:https://sport.seregno.eu/eventi/vivere-bene-lattivita-fisica-cosa-come-quanto-quando-e-perche/
LOCATION:Sala Civica Monsignor Gandini\, Via XXIV Maggio\, 10\, Seregno\, Monza e Brianza\, 20831\, Italy
CATEGORIES:Conferenza
ATTACH;FMTTYPE=image/jpeg:https://sport.seregno.eu/wp-content/uploads/2025/04/silvio-garattini-oggi-4.jpg
END:VEVENT
BEGIN:VEVENT
DTSTART;TZID=UTC:20250509T210000
DTEND;TZID=UTC:20250509T230000
DTSTAMP:20260423T010928
CREATED:20250423T090110Z
LAST-MODIFIED:20250423T090110Z
UID:949-1746824400-1746831600@sport.seregno.eu
SUMMARY:Sport e mente: la calma in movimento
DESCRIPTION:Cyberbullismo e rischi della rete: anche lo sport non è immune. \nIncontro incentrato sulle condotte a rischio come la prevaricazione online e il cyberbullismo. I relatori inviteranno ad una riflessione sui rischi della rete\, sulle dinamiche legate al cyberbullismo e su come promuovere modalità relazionali che non si fondino sul divieto\, ma su un accompagnamento autentico e responsabile alle esperienze digitali. \nModeratore: Dr. Garofalo Umberto Psicologo Psicoterapeuta\, Presidente Majestic Volley\nRelatori: Dr.ssa Valtorta Mariella Psicologa esperta in Scienze Cognitive\, Direttore Sportivo Majestic Volley; Dr. Filippo Rosa Psicologo\, membro equipe Dipendenze Tecnologiche Istituto Minotauro; Dimitri Palma Sostituto Commissario della Polizia di Stato Questura di Monza.  \nA cura di Majestic Volley e Seishin do karate
URL:https://sport.seregno.eu/eventi/sport-e-mente-la-calma-in-movimento-2/
LOCATION:L’Auditorium\, Piazza Risorgimento\, Seregno\, Milano\, 20831\, Italy
CATEGORIES:Conferenza
ATTACH;FMTTYPE=image/jpeg:https://sport.seregno.eu/wp-content/uploads/2025/04/fattori-mentali-sport-1225x720-1.jpg
ORGANIZER;CN="Majestic Volley":MAILTO:info@volleyacademy.it
END:VEVENT
BEGIN:VEVENT
DTSTART;TZID=UTC:20250508T210000
DTEND;TZID=UTC:20250508T230000
DTSTAMP:20260423T010928
CREATED:20250423T081109Z
LAST-MODIFIED:20250423T084849Z
UID:940-1746738000-1746745200@sport.seregno.eu
SUMMARY:I miti del Rugby
DESCRIPTION:READING CON MARCO PASTONESI \nIspirandosi alle tante monografie che ha dedicato a storie di sport e personaggi “ovali”\, l’autore accompagna il pubblico in un viaggio tra i miti del rugby\, attraverso il racconto di club di culto e non\, dei campioni\, degli stadi\, dei tifosi\, delle mete segnate e delle azioni fallite. Un appuntamento imperdibile per gli appassionati e per chi è attratto dalle grandi storie di dedizione\, coraggio\, ribellione\, gioia che solo lo sport può dare. \nMarco Pastonesi\, ciclista\, genoano\, giornalista\, rugbista e scrittore (in rigoroso ordine alfabetico)\, vanta tra le sue pubblicazioni La leggenda di Maci\, L’uragano nero\, Ovalia\, Il Leone e il Corazziere\, La meta più bella della storia\, Il rugby\, il Galles\, Gareth e i suoi fratelli. \nPresentazione di Stefania Grimoldi\nA cura di Cartolibreria Biblos \nPRENOTA SU EVENTBRITE
URL:https://sport.seregno.eu/eventi/i-miti-del-rugby/
LOCATION:Sala Civica Monsignor Gandini\, Via XXIV Maggio\, 10\, Seregno\, Monza e Brianza\, 20831\, Italy
CATEGORIES:Eventi sportivi,Rugby,Teatro
ATTACH;FMTTYPE=image/webp:https://sport.seregno.eu/wp-content/uploads/2025/04/Marco-Pastonesi.webp
END:VEVENT
BEGIN:VEVENT
DTSTART;TZID=UTC:20250507T210000
DTEND;TZID=UTC:20250507T230000
DTSTAMP:20260423T010928
CREATED:20250423T080210Z
LAST-MODIFIED:20250423T084836Z
UID:935-1746651600-1746658800@sport.seregno.eu
SUMMARY:Altavia
DESCRIPTION:INCONTRO CON L’AUTORE SERGIO PETER \nTra sentieri immersi nella nebbia e bivacchi sperduti\, le pagine del romanzo di Sergio Peter portano ad esplorare il misterioso legame tra l’uomo e la natura selvaggia\, tra il conosciuto e l’ignoto.\nAl centro della narrazione ci sono tre ragazzi che si avventurano tra le Alpi alla ricerca di qualcosa di più di un rifugio fisico: un incontro con l’essenza della vita stessa. I lupi\, silenziosi e sfuggenti\, diventano il simbolo di questa ricerca\, presenza costante e inquietante che accompagna il loro viaggio invitando a riflettere su ciò che significa davvero vivere in armonia con ciò che ci circonda. \nSergio Peter vive e lavora a Milano. Ha studiato Filosofia. È autore di Dettato (2014). Altavia è il suo secondo romanzo.\n\nModera Angelo Chiodo per BM Radio\nA cura di Libreria Ubik \nPRENOTA SU EVENTBRITE
URL:https://sport.seregno.eu/eventi/altavia/
LOCATION:L’Auditorium\, Piazza Risorgimento\, Seregno\, Milano\, 20831\, Italy
CATEGORIES:Alpinismo,Eventi sportivi,Teatro
ATTACH;FMTTYPE=image/webp:https://sport.seregno.eu/wp-content/uploads/2025/04/sergio_peter.webp
END:VEVENT
BEGIN:VEVENT
DTSTART;TZID=UTC:20250506T210000
DTEND;TZID=UTC:20250506T230000
DTSTAMP:20260423T010928
CREATED:20250423T074821Z
LAST-MODIFIED:20250423T084817Z
UID:926-1746565200-1746572400@sport.seregno.eu
SUMMARY:La leggenda del pallavolista volante
DESCRIPTION:SPETTACOLO TEATRALE CON ANDREA ZORZI E BEATRICE VISIBELLI  \nTesto Nicola Zavagli\, Andrea Zorzi \nMovimenti coreografici Giulia Staccioli \nRegia Nicola Zavagli\nCompagnia Teatri d’imbarco \nLo sport incontra il teatro e si fa metafora della vita grazie al racconto della grande avventura di Andrea Zorzi detto “Zorro”\, il pallavolista due volte campione del mondo e tre volte campione europeo con l’indimenticabile Nazionale di Julio Velasco. Il palco si trasforma in un campo da pallavolo\, per rivivere le azioni mozzafiato\, le vittorie leggendarie e le sconfitte ancora brucianti della carriera di un autentico mito dello sport italiano. \nPRENOTA SU EVENTBRITE
URL:https://sport.seregno.eu/eventi/la-leggenda-del-pallavolista-volante-2/
LOCATION:L’Auditorium\, Piazza Risorgimento\, Seregno\, Milano\, 20831\, Italy
CATEGORIES:Eventi sportivi,Pallavolo,Teatro
ATTACH;FMTTYPE=image/jpeg:https://sport.seregno.eu/wp-content/uploads/2025/04/Leggenda-pallavolista.jpg
END:VEVENT
BEGIN:VEVENT
DTSTART;TZID=UTC:20250503T170000
DTEND;TZID=UTC:20250525T190000
DTSTAMP:20260423T010928
CREATED:20250423T102101Z
LAST-MODIFIED:20250423T102217Z
UID:986-1746291600-1748199600@sport.seregno.eu
SUMMARY:La città dello sport | Mostra
DESCRIPTION:ORARI MOSTRA\nsabato ore 16-19\ndomenica ore 10-12 e 16-19 \nIngresso gratuito senza prenotazione \n10a edizione del concorso “Arti Visive” \nInaugurazione mostra delle opere selezionate per la 10a edizione del concorso “Arti Visive”\, promosso da Circolo Culturale San Giuseppe nell’anno di Seregno Città Europea dello Sport. Gli artisti hanno tramutato in dipinti\, sculture\, installazioni e fotografie\, i valori dello sport\, come occasione di crescita per la salute\, l’integrazione sociale\, il rispetto delle regole e degli altri\, il piacere di stare insieme. La premiazione del vincitore si terrà domenica 25 maggio alle ore 18.30 sempre presso il Circolo Culturale San Giuseppe. \nA cura di Consulta Cultura
URL:https://sport.seregno.eu/eventi/la-citta-dello-sport-mostra/
LOCATION:Circolo Culturale San Giuseppe\, Via Cavour 25\, Seregno\, Monza e Brianza\, 20831\, Italy
CATEGORIES:Mostra
ATTACH;FMTTYPE=image/jpeg:https://sport.seregno.eu/wp-content/uploads/2025/04/0649-Giro.dIItalia.Seregno.2023-scaled.jpg
END:VEVENT
BEGIN:VEVENT
DTSTART;TZID=UTC:20250503T163000
DTEND;TZID=UTC:20250503T193000
DTSTAMP:20260423T010928
CREATED:20250423T130657Z
LAST-MODIFIED:20250423T130657Z
UID:1004-1746289800-1746300600@sport.seregno.eu
SUMMARY:Uniti nell'acqua
DESCRIPTION:Gara a staffetta di nuoto inclusivo\,\nOrganizzazione Nuoto Club Seregno\nCentro Natatorio della Porada ore 16.30 – 19.30
URL:https://sport.seregno.eu/eventi/uniti-nellacqua/
CATEGORIES:Nuoto
ATTACH;FMTTYPE=image/jpeg:https://sport.seregno.eu/wp-content/uploads/2025/04/492448908_1283215557143117_1341019385202987072_n.jpg
END:VEVENT
BEGIN:VEVENT
DTSTART;TZID=UTC:20250501T100000
DTEND;TZID=UTC:20250504T180000
DTSTAMP:20260423T010928
CREATED:20250423T102702Z
LAST-MODIFIED:20250423T102702Z
UID:995-1746093600-1746381600@sport.seregno.eu
SUMMARY:Minibasket Torneo Aquilotti
DESCRIPTION:Basket Seregno organizza Eagles Summer Hoops\, torneo categoria Aquilotti (atleti nati anno 2014 e 2015).\nAl Pala Don Milani
URL:https://sport.seregno.eu/eventi/minibasket-torneo-aquilotti/
CATEGORIES:Pallacanestro
ATTACH;FMTTYPE=image/jpeg:https://sport.seregno.eu/wp-content/uploads/2025/04/05-1-2-3-4_Summer_Eagles_Hoops.jpg
END:VEVENT
BEGIN:VEVENT
DTSTART;TZID=UTC:20250501T100000
DTEND;TZID=UTC:20250501T170000
DTSTAMP:20260423T010928
CREATED:20250423T102230Z
LAST-MODIFIED:20250423T102230Z
UID:987-1746093600-1746118800@sport.seregno.eu
SUMMARY:Campionato Provinciale Staffette
DESCRIPTION:Atletica 5 Cerchi organizza per Fidalmilano il CAMPIONATO PROVINCIALE STAFFETTE \nProgramma  \nMattino ORE 10\nCategoria Ragazzi maschile e femminile 4X100 e 3X800 \nPomeriggio ore 14\nCategoria Cadetti maschile e femminile 4X100 e 3X1000\nAllievi / Cadetti / Junior / Promesse / Senior maschile e femminile 4×100- 4×400
URL:https://sport.seregno.eu/eventi/campionato-provinciale-staffette/
CATEGORIES:Atletica Leggera
ATTACH;FMTTYPE=image/jpeg:https://sport.seregno.eu/wp-content/uploads/2025/04/images.jpg
END:VEVENT
BEGIN:VEVENT
DTSTART;TZID=UTC:20250430T203000
DTEND;TZID=UTC:20250430T223000
DTSTAMP:20260423T010928
CREATED:20250325T103109Z
LAST-MODIFIED:20250325T103109Z
UID:862-1746045000-1746052200@sport.seregno.eu
SUMMARY:Mangiare Meglio per Vivere Meglio
DESCRIPTION:Professional Ballet Center propone un incontro su “Mangiare meglio per vivere meglio – l’importanza dello sport”. \nCon Martina Michienzi (nutizionista) e Alessandro Campiola (dietista).
URL:https://sport.seregno.eu/eventi/mangiare-meglio-per-vivere-meglio/
CATEGORIES:Conferenza
ATTACH;FMTTYPE=image/jpeg:https://sport.seregno.eu/wp-content/uploads/2025/03/Immagine-WhatsApp-2025-03-25-ore-09.45.35_e7735985.jpg
END:VEVENT
BEGIN:VEVENT
DTSTART;TZID=UTC:20250427T093000
DTEND;TZID=UTC:20250427T133000
DTSTAMP:20260423T010928
CREATED:20250314T170747Z
LAST-MODIFIED:20250314T170747Z
UID:827-1745746200-1745760600@sport.seregno.eu
SUMMARY:Volley School Manu Benelli
DESCRIPTION:Settimo appuntamento dell’anno solare con il corso – masterclass con la allenatrice Manuela Benelli. Evento proposto da Majestic Volley
URL:https://sport.seregno.eu/eventi/volley-school-manu-benelli-7/
CATEGORIES:Pallavolo
ATTACH;FMTTYPE=image/jpeg:https://sport.seregno.eu/wp-content/uploads/2025/01/Immagine-WhatsApp-2024-12-27-ore-15.39.36_bd7701be.jpg
END:VEVENT
BEGIN:VEVENT
DTSTART;TZID=UTC:20250427T090000
DTEND;TZID=UTC:20250427T160000
DTSTAMP:20260423T010928
CREATED:20250314T182802Z
LAST-MODIFIED:20250423T131608Z
UID:835-1745744400-1745769600@sport.seregno.eu
SUMMARY:HP Promote | Centri di perfezionamento
DESCRIPTION:I migliori prospetti giovanili dell’hockey pista di Lombardia e Piemonte partecipano ad un collegiale di perfezionamento organizzato dalla Federazione Sport Rotellistici.\nAl PalaSomaschini \nA questo link\, gli atleti convocati
URL:https://sport.seregno.eu/eventi/hp-promote-centri-di-perfezionamento-2/
CATEGORIES:Hockey su pista
ATTACH;FMTTYPE=image/jpeg:https://sport.seregno.eu/wp-content/uploads/2025/01/Marchio-FISR-Naz.le-Vert.-1-678x381-1.jpg
END:VEVENT
BEGIN:VEVENT
DTSTART;TZID=UTC:20250414T210000
DTEND;TZID=UTC:20250414T230000
DTSTAMP:20260423T010928
CREATED:20250318T152633Z
LAST-MODIFIED:20250318T152633Z
UID:845-1744664400-1744671600@sport.seregno.eu
SUMMARY:Educare con lo sport
DESCRIPTION:Il pedagogista Raffaele Mantegazza propone una riflessione su “Educare attraverso lo sport – Quando giochiamo insieme\, ogni diversità diventa una forza”. \nOrganizzazione Seregno Rugby
URL:https://sport.seregno.eu/eventi/educare-con-lo-sport-2/
CATEGORIES:Conferenza
ATTACH;FMTTYPE=image/jpeg:https://sport.seregno.eu/wp-content/uploads/2025/03/rugby14.jpg
END:VEVENT
BEGIN:VEVENT
DTSTART;TZID=UTC:20250413T100000
DTEND;TZID=UTC:20250413T170000
DTSTAMP:20260423T010928
CREATED:20250401T142409Z
LAST-MODIFIED:20250401T142409Z
UID:870-1744538400-1744563600@sport.seregno.eu
SUMMARY:Trofeo Città di Seregno U8 - U10 - U12
DESCRIPTION:Il Seregno Rugby promuove il torneo Città di Seregno per le categorie Under 8\, Under 10 e Under 12.
URL:https://sport.seregno.eu/eventi/trofeo-citta-di-seregno-u8-u10-u12/
CATEGORIES:Rugby
ATTACH;FMTTYPE=image/jpeg:https://sport.seregno.eu/wp-content/uploads/2025/04/04-13_Rugby-scaled.jpg
END:VEVENT
BEGIN:VEVENT
DTSTART;TZID=UTC:20250413T093000
DTEND;TZID=UTC:20250413T230000
DTSTAMP:20260423T010928
CREATED:20250408T132558Z
LAST-MODIFIED:20250408T132558Z
UID:913-1744536600-1744585200@sport.seregno.eu
SUMMARY:Routine "Gianni Camino"
DESCRIPTION:Gara regionale nuoto artistico riservata alla categoria Esordienti B\nInizio ore 9.30\nCentro Natatorio Trabattoni
URL:https://sport.seregno.eu/eventi/routine-gianni-camino/
CATEGORIES:Nuoto Artistico
ATTACH;FMTTYPE=image/jpeg:https://sport.seregno.eu/wp-content/uploads/2025/04/464406911_4883532771870871_135580800964284561_n.jpg
END:VEVENT
BEGIN:VEVENT
DTSTART;TZID=UTC:20250413T080000
DTEND;TZID=UTC:20250413T130000
DTSTAMP:20260423T010928
CREATED:20250317T084546Z
LAST-MODIFIED:20250402T154819Z
UID:838-1744531200-1744549200@sport.seregno.eu
SUMMARY:Trofeo Buzzi Campionato Regionale Motoraid
DESCRIPTION:Il Vespa Club Seregno organizza per domenica 13 aprile la prima prova del Campionato Regionale Motoraid FMI Federazione Motociclistica Italiana.
URL:https://sport.seregno.eu/eventi/trofeo-buzzi-campionato-regionale-motoraid/
CATEGORIES:Motori
ATTACH;FMTTYPE=image/jpeg:https://sport.seregno.eu/wp-content/uploads/2025/03/482093076_9764376913596629_1924905687296400396_n-1.jpg
END:VEVENT
BEGIN:VEVENT
DTSTART;TZID=UTC:20250412T143000
DTEND;TZID=UTC:20250413T120000
DTSTAMP:20260423T010928
CREATED:20250314T172947Z
LAST-MODIFIED:20250409T173159Z
UID:832-1744468200-1744545600@sport.seregno.eu
SUMMARY:Playoff delle seconde classificate serie B
DESCRIPTION:La Federazione Italiana Pallacanestro in Carrozzina (FIPIC) ha ufficialmente assegnato alla Vigor Seregno BIC Asd l’organizzazione del Concentramento delle seconde squadre classificate del campionato di Serie B. \nL’evento si terrà il 12 e 13 aprile 2025 presso il Palasomaschini e vedrà sfidarsi le seconde classificate dei tre gironi della Serie B per determinare la migliore seconda\, che avrà la possibilità di accedere alla fase successiva. \nIl formato della competizione \nLe tre squadre si affronteranno in un girone all’italiana con il seguente programma: \nSabato 12 aprile 2025  \nOre 11: Lazio Basket – Nordest Castelvecchio \nOre 17: Vigor Seregno – Lazio Basket \nDomenica 13 aprile 2025 \nOre 10.30: Nordest Castelvecchio – Vigor Seregno \nLa squadra vincente si qualificherà per il concentramento finale del 3 e 4 maggio 2025\, dove si sfiderà con le prime classificate di ciascun girone per contendersi la promozione in Serie A per la stagione 2025-26.
URL:https://sport.seregno.eu/eventi/playoff-delle-seconde-classificate-serie-b/
CATEGORIES:Pallacanestro in Carrozzina
ATTACH;FMTTYPE=image/jpeg:https://sport.seregno.eu/wp-content/uploads/2025/03/67b48b2451d32f377bf601af_101-Sport-oltre-le-barriere.-Torneo-Basket-in-carrozzina.-27-10-24-p-1600.jpg
END:VEVENT
BEGIN:VEVENT
DTSTART;TZID=UTC:20250412T140000
DTEND;TZID=UTC:20250412T180000
DTSTAMP:20260423T010928
CREATED:20250226T172656Z
LAST-MODIFIED:20250226T172656Z
UID:778-1744466400-1744480800@sport.seregno.eu
SUMMARY:"Vecc e Crapun" - Torneo Old
DESCRIPTION:Tradizionale appuntamento per la categoria Old.
URL:https://sport.seregno.eu/eventi/vecc-e-crapun-torneo-old/
CATEGORIES:Rugby
ATTACH;FMTTYPE=image/jpeg:https://sport.seregno.eu/wp-content/uploads/2025/02/Immagine-WhatsApp-2025-02-25-ore-09.42.17_bd5fba1b.jpg
END:VEVENT
BEGIN:VEVENT
DTSTART;TZID=UTC:20250412T100000
DTEND;TZID=UTC:20250412T230000
DTSTAMP:20260423T010928
CREATED:20250407T173740Z
LAST-MODIFIED:20250407T173740Z
UID:909-1744452000-1744498800@sport.seregno.eu
SUMMARY:GINNASTICA MILITARE\, ALLENAMENTO
DESCRIPTION:Allenamento per tutti di Ginnastica Dinamica Militare Italiana
URL:https://sport.seregno.eu/eventi/ginnastica-militare-allenamento/
CATEGORIES:Eventi per tutti
ATTACH;FMTTYPE=image/jpeg:https://sport.seregno.eu/wp-content/uploads/2025/04/488862017_3018193741690235_5929027799413702402_n.jpeg
END:VEVENT
BEGIN:VEVENT
DTSTART;TZID=UTC:20250410T210000
DTEND;TZID=UTC:20250410T230000
DTSTAMP:20260423T010928
CREATED:20250226T183940Z
LAST-MODIFIED:20250226T183940Z
UID:798-1744318800-1744326000@sport.seregno.eu
SUMMARY:Sogni Verticali tra Patagonia e Pakistan
DESCRIPTION:Il Cai sezione di Seregno propone un incontro con Chiara Gusmeroli e Matteo De Zaiacomo\, che raccontano le montagne di Patagonia e Pakistan.
URL:https://sport.seregno.eu/eventi/sogni-verticali-tra-patagonia-e-pakistan/
CATEGORIES:Conferenza
ATTACH;FMTTYPE=image/jpeg:https://sport.seregno.eu/wp-content/uploads/2025/02/volantino_gusmeroli-dezaiacomo_corretto-1-scaled.jpg
END:VEVENT
BEGIN:VEVENT
DTSTART;TZID=UTC:20250409T210000
DTEND;TZID=UTC:20250409T230000
DTSTAMP:20260423T010928
CREATED:20250314T171527Z
LAST-MODIFIED:20250403T095728Z
UID:829-1744232400-1744239600@sport.seregno.eu
SUMMARY:Esordienti - I primi passi verso il successo
DESCRIPTION:Lisa Off side dialoga con Filippo Tortu\nAll’Auditorium di piazza Risorgimento \nIngresso gratuito su prenotazione consigliata.  Le prenotazioni aprono giovedì 3 aprile alle ore 16 a questo link.
URL:https://sport.seregno.eu/eventi/esordienti-i-primi-passi-verso-il-successo/
CATEGORIES:Talk
ATTACH;FMTTYPE=image/jpeg:https://sport.seregno.eu/wp-content/uploads/2025/03/Immagine-WhatsApp-2025-03-14-ore-11.31.42_d5bfdaec.jpg
END:VEVENT
BEGIN:VEVENT
DTSTART;TZID=UTC:20250408T090000
DTEND;TZID=UTC:20250408T130000
DTSTAMP:20260423T010928
CREATED:20250226T182907Z
LAST-MODIFIED:20250226T182907Z
UID:786-1744102800-1744117200@sport.seregno.eu
SUMMARY:Giochi Studenteschi di Atletica
DESCRIPTION:Allo Stadio Ferruccio\, gli alunni delle scuole secondarie di primo grafo della città sono impegnate nei Giochi Studenteschi di Atletica Leggera. In collaborazione con Atletica 5 Cerchi
URL:https://sport.seregno.eu/eventi/giochi-studenteschi-di-atletica/
CATEGORIES:Giochi Studenteschi
ATTACH;FMTTYPE=image/jpeg:https://sport.seregno.eu/wp-content/uploads/2025/01/Immagine-WhatsApp-2025-01-20-ore-11.41.19_5da0120c.jpg
END:VEVENT
BEGIN:VEVENT
DTSTART;TZID=UTC:20250406T143000
DTEND;TZID=UTC:20250406T180000
DTSTAMP:20260423T010928
CREATED:20250317T090900Z
LAST-MODIFIED:20250318T153021Z
UID:841-1743949800-1743962400@sport.seregno.eu
SUMMARY:Campionato Regionale Corsa su Pista
DESCRIPTION:CAMPIONATO ASSOLUTO DI CORSA – 10.000 metri su PISTA\ncategorie Senior\, Junior e Promesse. Fase Regionale\n(valida come Campionato Regionale Individuale Assoluto)  \nCampionato Regionale Individuale 30′ ALLIEVI- 20′ ALLIEVE  \nGARE DI CONTORNO\nF = 200-400-Alto-Peso\nM = 200-400-Alto-Peso
URL:https://sport.seregno.eu/eventi/campionato-regionale-10-000m-su-pista/
CATEGORIES:Atletica Leggera
ATTACH;FMTTYPE=image/jpeg:https://sport.seregno.eu/wp-content/uploads/2025/03/images.jpeg
END:VEVENT
END:VCALENDAR