BEGIN:VCALENDAR
VERSION:2.0
PRODID:-//Sport Seregno - ECPv6.9.0//NONSGML v1.0//EN
CALSCALE:GREGORIAN
METHOD:PUBLISH
X-WR-CALNAME:Sport Seregno
X-ORIGINAL-URL:https://sport.seregno.eu
X-WR-CALDESC:Eventi per Sport Seregno
REFRESH-INTERVAL;VALUE=DURATION:PT1H
X-Robots-Tag:noindex
X-PUBLISHED-TTL:PT1H
BEGIN:VTIMEZONE
TZID:UTC
BEGIN:STANDARD
TZOFFSETFROM:+0000
TZOFFSETTO:+0000
TZNAME:UTC
DTSTART:20250101T000000
END:STANDARD
TZID:Europe/Paris
BEGIN:DAYLIGHT
TZOFFSETFROM:+0100
TZOFFSETTO:+0200
TZNAME:CEST
DTSTART:20250330T010000
END:DAYLIGHT
BEGIN:STANDARD
TZOFFSETFROM:+0200
TZOFFSETTO:+0100
TZNAME:CET
DTSTART:20251026T010000
END:STANDARD
END:VTIMEZONE
BEGIN:VEVENT
DTSTART;TZID=UTC:20250323T093000
DTEND;TZID=UTC:20250323T133000
DTSTAMP:20260423T054218
CREATED:20250226T183333Z
LAST-MODIFIED:20250226T183333Z
UID:793-1742722200-1742736600@sport.seregno.eu
SUMMARY:Volley School Manu Benelli
DESCRIPTION:Quinto appuntamento dell’anno solare con il corso – masterclass con la allenatrice Manuela Benelli. Evento proposto da Majestic Volley
URL:https://sport.seregno.eu/eventi/volley-school-manu-benelli-5/
CATEGORIES:Pallavolo
ATTACH;FMTTYPE=image/jpeg:https://sport.seregno.eu/wp-content/uploads/2025/01/Immagine-WhatsApp-2024-12-27-ore-15.39.36_bd7701be.jpg
END:VEVENT
BEGIN:VEVENT
DTSTART;TZID=UTC:20250323T080000
DTEND;TZID=UTC:20250323T210000
DTSTAMP:20260423T054218
CREATED:20250314T155258Z
LAST-MODIFIED:20250314T155258Z
UID:813-1742716800-1742763600@sport.seregno.eu
SUMMARY:Finale di Trofeo Fipav
DESCRIPTION:Al PalaSomaschini le Finali Territoriali di pallavolo Under 19 maschile e Under 18 femminile.
URL:https://sport.seregno.eu/eventi/finale-di-trofeo-fipav/
CATEGORIES:Pallavolo
ATTACH;FMTTYPE=image/jpeg:https://sport.seregno.eu/wp-content/uploads/2025/03/ESE_finale_trofeo_2025_bozza-11.jpg
END:VEVENT
BEGIN:VEVENT
DTSTART;TZID=UTC:20250321T210000
DTEND;TZID=UTC:20250321T230000
DTSTAMP:20260423T054218
CREATED:20250226T183543Z
LAST-MODIFIED:20250226T183724Z
UID:795-1742590800-1742598000@sport.seregno.eu
SUMMARY:Bimboclimb con Club Alpino Italiano
DESCRIPTION:Il Club Alpino Italiano – Sezione di Seregno invita i bambini a provare l’emozione dell’arrampicata sportiva con l’aiuto degli istruttori della scuola di alpinismo Renzo Cabiati.\nAppuntamento venerdì 21 marzo dalle ore 21. L’iniziativa si ripete ogni ultimo venerdì del mese\, presso la sede del Cai\, via San Carlo 47. \nLa partecipazione è gratuita\nInfo caiseregno@gmail.com
URL:https://sport.seregno.eu/eventi/795/
CATEGORIES:Alpinismo
ATTACH;FMTTYPE=image/jpeg:https://sport.seregno.eu/wp-content/uploads/2025/01/Immagine-WhatsApp-2025-01-17-ore-13.20.40_4ab33b1b.jpg
END:VEVENT
BEGIN:VEVENT
DTSTART;TZID=UTC:20250318T210000
DTEND;TZID=UTC:20250318T230000
DTSTAMP:20260423T054218
CREATED:20250303T165830Z
LAST-MODIFIED:20250303T165830Z
UID:802-1742331600-1742338800@sport.seregno.eu
SUMMARY:"Legami verticali"
DESCRIPTION:Il Club Alpino Italiano – Sezione di Seregno propone un incontro con Silvia Loreggian e Stefano Ragazzo\, che raccontano i loro “legami verticali”\, ovvero le spedizioni alpinistiche che li hanno visti protagonisti. \nSala Civica Monsignor Gandini\, martedì 18 marzo ore 21.
URL:https://sport.seregno.eu/eventi/legami-verticali/
CATEGORIES:Talk
ATTACH;FMTTYPE=image/jpeg:https://sport.seregno.eu/wp-content/uploads/2025/03/loreggian-ragazzo.jpg
END:VEVENT
BEGIN:VEVENT
DTSTART;TZID=UTC:20250312T080000
DTEND;TZID=UTC:20250511T170000
DTSTAMP:20260423T054218
CREATED:20250121T183235Z
LAST-MODIFIED:20250121T183235Z
UID:724-1741766400-1746982800@sport.seregno.eu
SUMMARY:Vespe in Scooter a Bratislava
DESCRIPTION:Il Vespa Club Seregno\, in collaborazione con l’Istituto Italiano di Cultura di Bratislava\, propone a Bratislava una mostra dedicata alla Vespa – collezione privata del seregneese Marco Fumagalli.
URL:https://sport.seregno.eu/eventi/vespe-in-scooter-a-bratislava/
CATEGORIES:Mostra
ATTACH;FMTTYPE=image/jpeg:https://sport.seregno.eu/wp-content/uploads/2025/01/Immagine-WhatsApp-2025-01-20-ore-10.33.04_60323e2d.jpg
END:VEVENT
BEGIN:VEVENT
DTSTART;TZID=UTC:20250309T093000
DTEND;TZID=UTC:20250309T133000
DTSTAMP:20260423T054218
CREATED:20250226T183225Z
LAST-MODIFIED:20250226T183225Z
UID:791-1741512600-1741527000@sport.seregno.eu
SUMMARY:Volley School Manu Benelli
DESCRIPTION:Quarto appuntamento dell’anno solare con il corso – masterclass con la allenatrice Manuela Benelli. Evento proposto da Majestic Volley
URL:https://sport.seregno.eu/eventi/volley-school-manu-benelli-4/
CATEGORIES:Pallavolo
ATTACH;FMTTYPE=image/jpeg:https://sport.seregno.eu/wp-content/uploads/2025/01/Immagine-WhatsApp-2024-12-27-ore-15.39.36_bd7701be.jpg
END:VEVENT
BEGIN:VEVENT
DTSTART;TZID=UTC:20250309T090000
DTEND;TZID=UTC:20250309T170000
DTSTAMP:20260423T054218
CREATED:20250211T142934Z
LAST-MODIFIED:20250211T142934Z
UID:746-1741510800-1741539600@sport.seregno.eu
SUMMARY:Torneo Amici di Riga
DESCRIPTION:Al Quartiere San Salvatore\, un torneo di calcio ed una giornata di festa per ricordare Marco Rigato\, un giovane di Seregno scomparso prematuramente nell’estate del 2021.
URL:https://sport.seregno.eu/eventi/torneo-amici-di-riga/
CATEGORIES:Calcio
ATTACH;FMTTYPE=image/jpeg:https://sport.seregno.eu/wp-content/uploads/2025/02/Immagine-WhatsApp-2025-02-11-ore-12.04.33_f144399a.jpg
END:VEVENT
BEGIN:VEVENT
DTSTART;TZID=UTC:20250308T090000
DTEND;TZID=UTC:20250308T173000
DTSTAMP:20260423T054218
CREATED:20250306T212300Z
LAST-MODIFIED:20250306T212320Z
UID:805-1741424400-1741455000@sport.seregno.eu
SUMMARY:Carnival Cup
DESCRIPTION:Il Basket Seregno organizza Carnival Cup\, torneo categoria Scoiattoli.
URL:https://sport.seregno.eu/eventi/carnival-cup/
CATEGORIES:Pallacanestro
ATTACH;FMTTYPE=image/jpeg:https://sport.seregno.eu/wp-content/uploads/2025/03/Immagine-WhatsApp-2025-03-06-ore-08.31.02_50a9c1b1.jpg
END:VEVENT
BEGIN:VEVENT
DTSTART;TZID=UTC:20250302T093000
DTEND;TZID=UTC:20250302T230000
DTSTAMP:20260423T054218
CREATED:20250131T140809Z
LAST-MODIFIED:20250131T140819Z
UID:735-1740907800-1740956400@sport.seregno.eu
SUMMARY:AMA-TI - Fitness in maschera
DESCRIPTION:In collaborazione con Postural Move Studio\, un percorso di fitness e solidarietà a favore di Casa della Carità
URL:https://sport.seregno.eu/eventi/ama-ti-fitness-in-maschera/
CATEGORIES:Eventi per tutti
ATTACH;FMTTYPE=image/jpeg:https://sport.seregno.eu/wp-content/uploads/2025/01/AMA-TI.jpg
END:VEVENT
BEGIN:VEVENT
DTSTART;TZID=UTC:20250226T080000
DTEND;TZID=UTC:20250226T113000
DTSTAMP:20260423T054218
CREATED:20250121T173241Z
LAST-MODIFIED:20250226T182935Z
UID:719-1740556800-1740569400@sport.seregno.eu
SUMMARY:Giochi Studenteschi di Nuoto
DESCRIPTION:Al Centro Natatorio della Porada\, gli alunni delle scuole primaria e secondarie della città sono impegnate nei Giochi Studenteschi di Nuoto. In collaborazione con Nuoto Club Seregno.
URL:https://sport.seregno.eu/eventi/giochi-studenteschi-di-nuoto/
CATEGORIES:Giochi Studenteschi
ATTACH;FMTTYPE=image/jpeg:https://sport.seregno.eu/wp-content/uploads/2025/01/Immagine-WhatsApp-2025-01-20-ore-11.41.19_5da0120c.jpg
END:VEVENT
BEGIN:VEVENT
DTSTART;TZID=UTC:20250223T093000
DTEND;TZID=UTC:20250223T133000
DTSTAMP:20260423T054218
CREATED:20250117T160904Z
LAST-MODIFIED:20250117T160904Z
UID:706-1740303000-1740317400@sport.seregno.eu
SUMMARY:Volley School Manu Benelli
DESCRIPTION:Terzo appuntamento dell’anno solare con il corso – masterclass con la allenatrice Manuela Benelli. Evento proposto da Majestic Volley
URL:https://sport.seregno.eu/eventi/volley-school-manu-benelli-3/
CATEGORIES:Pallavolo
ATTACH;FMTTYPE=image/jpeg:https://sport.seregno.eu/wp-content/uploads/2025/01/Immagine-WhatsApp-2024-12-27-ore-15.39.36_bd7701be.jpg
END:VEVENT
BEGIN:VEVENT
DTSTART;TZID=UTC:20250221T210000
DTEND;TZID=UTC:20250221T230000
DTSTAMP:20260423T054218
CREATED:20250211T143537Z
LAST-MODIFIED:20250226T183023Z
UID:749-1740171600-1740178800@sport.seregno.eu
SUMMARY:Fabio Capello - "Io li ho allenati"
DESCRIPTION:Fabio Capello racconta i campioni che ha allenato\nConduce Maurizio Losa. \nPrenotazione consigliata sul sito Eventbrite
URL:https://sport.seregno.eu/eventi/fabio-capello-io-li-ho-allenati/
CATEGORIES:Talk
ATTACH;FMTTYPE=image/jpeg:https://sport.seregno.eu/wp-content/uploads/2025/02/Immagine-WhatsApp-2025-02-14-ore-10.00.43_4d8fefa1-e1739533226232.jpg
END:VEVENT
BEGIN:VEVENT
DTSTART;TZID=UTC:20250221T210000
DTEND;TZID=UTC:20250221T223000
DTSTAMP:20260423T054218
CREATED:20250117T161106Z
LAST-MODIFIED:20250117T161106Z
UID:708-1740171600-1740177000@sport.seregno.eu
SUMMARY:Bimboclimb con Club Alpino Italiano
DESCRIPTION:Il Club Alpino Italiano – Sezione di Seregno invita i bambini a provare l’emozione dell’arrampicata sportiva con l’aiuto degli istruttori della scuola di alpinismo Renzo Cabiati.\nPrimo incontro venerdì 24 gennaio dalle ore 21. L’iniziativa si ripete ogni ultimo venerdì del mese\, presso la sede del Cai\, via San Carlo 47. \nLa partecipazione è gratuita\nInfo caiseregno@gmail.com
URL:https://sport.seregno.eu/eventi/bimboclimb-con-club-alpino-italiano/
CATEGORIES:Alpinismo
ATTACH;FMTTYPE=image/jpeg:https://sport.seregno.eu/wp-content/uploads/2025/01/Immagine-WhatsApp-2025-01-17-ore-13.20.40_4ab33b1b.jpg
END:VEVENT
BEGIN:VEVENT
DTSTART;TZID=UTC:20250215T180000
DTEND;TZID=UTC:20250215T200000
DTSTAMP:20260423T054218
CREATED:20250211T164740Z
LAST-MODIFIED:20250211T164740Z
UID:759-1739642400-1739649600@sport.seregno.eu
SUMMARY:Presentazione Team Salus Ciclistica
DESCRIPTION:La Salus Ciclistica presenta la squadra che affronta la stagione 2025
URL:https://sport.seregno.eu/eventi/presentazione-team-salus-ciclistica/
ATTACH;FMTTYPE=image/jpeg:https://sport.seregno.eu/wp-content/uploads/2025/02/Immagine-WhatsApp-2025-02-06-ore-16.34.42_de0d0825.jpg
END:VEVENT
BEGIN:VEVENT
DTSTART;TZID=UTC:20250209T093000
DTEND;TZID=UTC:20250209T233000
DTSTAMP:20260423T054218
CREATED:20250131T140525Z
LAST-MODIFIED:20250131T140649Z
UID:731-1739093400-1739143800@sport.seregno.eu
SUMMARY:AMA-TI: Fitness in love
DESCRIPTION:In collaborazione con Postural Move Studio\, un percorso di fitness e solidarietà a favore di Casa della Carità
URL:https://sport.seregno.eu/eventi/ama-ti-fitness-in-love/
CATEGORIES:Eventi per tutti
ATTACH;FMTTYPE=image/jpeg:https://sport.seregno.eu/wp-content/uploads/2025/01/AMA-TI.jpg
END:VEVENT
BEGIN:VEVENT
DTSTART;TZID=UTC:20250202T093000
DTEND;TZID=UTC:20250202T133000
DTSTAMP:20260423T054218
CREATED:20250117T160634Z
LAST-MODIFIED:20250117T160634Z
UID:704-1738488600-1738503000@sport.seregno.eu
SUMMARY:Volley School Manu Benelli
DESCRIPTION:Secondo appuntamento dell’anno solare con il corso – masterclass con la allenatrice Manuela Benelli. Evento proposto da Majestic Volley
URL:https://sport.seregno.eu/eventi/volley-school-manu-benelli-2/
CATEGORIES:Pallavolo
ATTACH;FMTTYPE=image/jpeg:https://sport.seregno.eu/wp-content/uploads/2025/01/Immagine-WhatsApp-2024-12-27-ore-15.39.36_bd7701be.jpg
END:VEVENT
BEGIN:VEVENT
DTSTART;TZID=UTC:20250127T210000
DTEND;TZID=UTC:20250127T230000
DTSTAMP:20260423T054218
CREATED:20250114T165411Z
LAST-MODIFIED:20250114T165707Z
UID:682-1738011600-1738018800@sport.seregno.eu
SUMMARY:"Bartali. Dalla parte giusta"
DESCRIPTION:Nel Giorno della Memoria\, Cartanima propone uno spettacolo teatrale sulla vicenda di Gino Bartali\, ciclista insignito del titolo di Giusto tra le Nazioni. \nDrammaturgia di Andrea Di Cianni\, regia di Alberto Genovese. \n  Gratuito\, con prenotazione obbligatoria alla mail cartanima.prenotazioni@seregno.info
URL:https://sport.seregno.eu/eventi/bartali-dalla-parte-giusta/
LOCATION:L’Auditorium\, Piazza Risorgimento\, Seregno\, Milano\, 20831\, Italy
CATEGORIES:Teatro
ATTACH;FMTTYPE=image/jpeg:https://sport.seregno.eu/wp-content/uploads/2025/01/Immagine-WhatsApp-2025-01-13-ore-13.50.22_667e5dbcdd.jpg
ORGANIZER;CN="Cartanima":MAILTO:cartanima.prenotazioni@seregno.info
END:VEVENT
BEGIN:VEVENT
DTSTART;TZID=UTC:20250124T210000
DTEND;TZID=UTC:20250124T223000
DTSTAMP:20260423T054218
CREATED:20250117T162118Z
LAST-MODIFIED:20250117T162118Z
UID:710-1737752400-1737757800@sport.seregno.eu
SUMMARY:Corsi di sci di fondo
DESCRIPTION:Il Gruppo Camosci promuove un corso di sci di fondo aperto a tutti.\nCinque lezioni teorica in sede e quattro lezioni pratiche sulle piste di Campra (Svizzera).\nPer informazioni: cell 3395496545 – mail info@camosciseregno.org.\nPrima lezione\, 24 gennaio.
URL:https://sport.seregno.eu/eventi/corsi-di-sci-di-fondo/
CATEGORIES:Sci
ATTACH;FMTTYPE=image/webp:https://sport.seregno.eu/wp-content/uploads/2025/01/volantinoCorsoFondoA5-adulti2025_page-0001.webp
END:VEVENT
BEGIN:VEVENT
DTSTART;TZID=UTC:20250124T210000
DTEND;TZID=UTC:20250124T223000
DTSTAMP:20260423T054218
CREATED:20250117T160024Z
LAST-MODIFIED:20250117T160055Z
UID:699-1737752400-1737757800@sport.seregno.eu
SUMMARY:Bimboclimb con Club Alpino Italiano
DESCRIPTION:Il Club Alpino Italiano – Sezione di Seregno invita i bambini a provare l’emozione dell’arrampicata sportiva con l’aiuto degli istruttori della scuola di alpinismo Renzo Cabiati.\nPrimo incontro venerdì 24 gennaio dalle ore 21. L’iniziativa si ripete ogni ultimo venerdì del mese\, presso la sede del Cai\, via San Carlo 47. \nLa partecipazione è gratuita\nInfo caiseregno@gmail.com
URL:https://sport.seregno.eu/eventi/bimboclimb-con-club-alpino/
CATEGORIES:Alpinismo
ATTACH;FMTTYPE=image/jpeg:https://sport.seregno.eu/wp-content/uploads/2025/01/Immagine-WhatsApp-2025-01-17-ore-13.20.40_4ab33b1b.jpg
END:VEVENT
BEGIN:VEVENT
DTSTART;TZID=UTC:20250120T080000
DTEND;TZID=UTC:20250120T113000
DTSTAMP:20260423T054218
CREATED:20250121T172722Z
LAST-MODIFIED:20250121T172945Z
UID:716-1737360000-1737372600@sport.seregno.eu
SUMMARY:Giochi Studenteschi di Sci
DESCRIPTION:Ai Piani di Bobbio\, gli alunni delle scuole secondarie della città sono impegnate nei Giochi Studenteschi di Sci.\nIn collaborazione con Sci Club Snow Time e Gruppo Camosci.
URL:https://sport.seregno.eu/eventi/giochi-studenteschi-di-sci/
CATEGORIES:Giochi Studenteschi
ATTACH;FMTTYPE=image/jpeg:https://sport.seregno.eu/wp-content/uploads/2025/01/Immagine-WhatsApp-2025-01-20-ore-11.41.19_fea44f72.jpg
END:VEVENT
BEGIN:VEVENT
DTSTART;TZID=UTC:20250119T110000
DTEND;TZID=UTC:20250119T133000
DTSTAMP:20260423T054218
CREATED:20250109T173722Z
LAST-MODIFIED:20250109T173722Z
UID:617-1737284400-1737293400@sport.seregno.eu
SUMMARY:Volley School Manu Benelli
DESCRIPTION:Apertura ufficiale del corso – masterclass con la allenatrice Manuela Benelli. Evento proposto da Majestic Volley
URL:https://sport.seregno.eu/eventi/volley-school-manu-benelli/
LOCATION:Palestra 8 Marzo\, via 8 Marzo\, Seregno\, Monza e Brianza\, 20131\, Italy
CATEGORIES:Eventi sportivi,Pallavolo
ATTACH;FMTTYPE=image/jpeg:https://sport.seregno.eu/wp-content/uploads/2025/01/Immagine-WhatsApp-2024-12-27-ore-15.39.38_950b7ef8.jpg
ORGANIZER;CN="Majestic Volley":MAILTO:info@volleyacademy.it
END:VEVENT
BEGIN:VEVENT
DTSTART;TZID=UTC:20250119T090000
DTEND;TZID=UTC:20250119T180000
DTSTAMP:20260423T054218
CREATED:20250109T173110Z
LAST-MODIFIED:20250109T173110Z
UID:614-1737277200-1737309600@sport.seregno.eu
SUMMARY:HP Promote | Centri di perfezionamento
DESCRIPTION:I migliori prospetti giovanili dell’hockey pista di Lombardia e Piemonte partecipano ad un collegiale di perfezionamento organizzato dalla Federazione Sport Rotellistici.
URL:https://sport.seregno.eu/eventi/hp-promote-centri-di-perfezionamento/
LOCATION:PalaSomaschini\, via alla Porada\, Seregno\, Italia\, 20831\, Italy
CATEGORIES:Eventi sportivi,Hockey su pista
ATTACH;FMTTYPE=image/jpeg:https://sport.seregno.eu/wp-content/uploads/2025/01/Marchio-FISR-Naz.le-Vert.-1-678x381-1.jpg
END:VEVENT
BEGIN:VEVENT
DTSTART;TZID=UTC:20250118T143000
DTEND;TZID=UTC:20250118T180000
DTSTAMP:20260423T054218
CREATED:20250109T172645Z
LAST-MODIFIED:20250109T172700Z
UID:610-1737210600-1737223200@sport.seregno.eu
SUMMARY:Campionato brianzolo di corsa campestre
DESCRIPTION:Il Gs Avis promuove un meeting di corsa campestre valevole come seconda tappa del Circuito Campionato Brianzolo.
URL:https://sport.seregno.eu/eventi/campionato-brianzolo-di-corsa-campestre/
LOCATION:Parco alla Porada\, via alla Porada\, Seregno\, Monza e Brianza\, 20131\, Italy
CATEGORIES:Corsa,Eventi sportivi
ATTACH;FMTTYPE=image/png:https://sport.seregno.eu/wp-content/uploads/2025/01/Logo.png
END:VEVENT
BEGIN:VEVENT
DTSTART;TZID=UTC:20250111T204500
DTEND;TZID=UTC:20250111T233000
DTSTAMP:20260423T054218
CREATED:20250109T163631Z
LAST-MODIFIED:20250109T165304Z
UID:591-1736628300-1736638200@sport.seregno.eu
SUMMARY:Galà dello Sport
DESCRIPTION:Il consueto appuntamento di gala dello sport Seregnese sarà l’evento che apre ufficialmente l’anno di Seregno Città Europea dello Sport 2025
URL:https://sport.seregno.eu/eventi/gala-dello-sport/
LOCATION:PalaSomaschini\, via alla Porada\, Seregno\, Italia\, 20831\, Italy
CATEGORIES:Serata di Gala
ATTACH;FMTTYPE=image/jpeg:https://sport.seregno.eu/wp-content/uploads/2020/04/23-09-23-Gala-dello-sport.-Stadio-Ferruccio-Seregno.-22-scaled.jpg
END:VEVENT
BEGIN:VEVENT
DTSTART;VALUE=DATE:20250111
DTEND;VALUE=DATE:20250112
DTSTAMP:20260423T054218
CREATED:20250117T162625Z
LAST-MODIFIED:20250117T162625Z
UID:713-1736553600-1736639999@sport.seregno.eu
SUMMARY:Giocare Sciare si può fare
DESCRIPTION:Corso di sci nordico per ragazzi proposto da Gruppo Camosci.\nPrima lezione sabato 11 gennaio in Val Formazza.
URL:https://sport.seregno.eu/eventi/giocare-sciare-si-puo-fare/
CATEGORIES:Sci
ATTACH;FMTTYPE=image/jpeg:https://sport.seregno.eu/wp-content/uploads/2025/01/nordic_ski1_Pagina_1.jpg
END:VEVENT
BEGIN:VEVENT
DTSTART;TZID=Europe/Paris:20250105T150000
DTEND;TZID=Europe/Paris:20250105T170000
DTSTAMP:20260423T054218
CREATED:20250114T165414Z
LAST-MODIFIED:20250114T165414Z
UID:687-1736089200-1736096400@sport.seregno.eu
SUMMARY:Coppa Italia Eccellenza | Finale Regionale
DESCRIPTION:Solbiatese e Rovato Vertovese si contendono la finale regionale lombarda della Coppa Italia Categoria Eccellenza. Evento organizzato da Figc-Lnd in collaborazione con Seregno Fbc.
URL:https://sport.seregno.eu/eventi/coppa-italia-eccellenza-finale-regionale/
LOCATION:Stadio Ferruccio\, Piazzale Olimpico Aldo Boffi\, Seregno\, Monza e Brianza\, 20831\, Italy
CATEGORIES:Calcio
ATTACH;FMTTYPE=image/jpeg:https://sport.seregno.eu/wp-content/uploads/2025/01/coppa-italia-72114.jpeg
ORGANIZER;CN="Lega Nazionale Dilettanti":MAILTO:eventi.lombardia@lnd.it
END:VEVENT
BEGIN:VEVENT
DTSTART;TZID=UTC:20250104T080000
DTEND;TZID=UTC:20250106T170000
DTSTAMP:20260423T054218
CREATED:20250114T165035Z
LAST-MODIFIED:20250114T165035Z
UID:683-1735977600-1736182800@sport.seregno.eu
SUMMARY:Un leone a canestro
DESCRIPTION:Basket Seregno e alcuni Lions Club della Brianza (Appiano Gentile\, Canonica Lambro\, Cesano Maderno Borromeo\, Desio\, Monza Corona Ferrea\, Monza Duomo\, Monza Parco\, Monza Host\, Seregno Aid\, Seregno Brianza) propongono un torneo di pallacanestro per formazioni delle categorie Under 15 e Under 16. La manifestazione è finalizzata a promuovere il Servizio Cani Guida dei Lions e Ausili per la Mobilità dei Non Vedenti Onlus.
URL:https://sport.seregno.eu/eventi/un-leone-a-canestro/
LOCATION:Pala Don Milani\, Via Carroccio\, Seregno\, Monza e Brianza\, 20831\, Italy
CATEGORIES:Eventi sportivi,Pallacanestro
ATTACH;FMTTYPE=image/jpeg:https://sport.seregno.eu/wp-content/uploads/2025/01/Immagine-WhatsApp-2025-01-02-ore-11.48.25_4dcf1075.jpg
ORGANIZER;CN="Basket Seregno":MAILTO:eventi@basketseregno.it
END:VEVENT
END:VCALENDAR