BEGIN:VCALENDAR
VERSION:2.0
PRODID:-//Sport Seregno - ECPv6.9.0//NONSGML v1.0//EN
CALSCALE:GREGORIAN
METHOD:PUBLISH
X-ORIGINAL-URL:https://sport.seregno.eu
X-WR-CALDESC:Eventi per Sport Seregno
REFRESH-INTERVAL;VALUE=DURATION:PT1H
X-Robots-Tag:noindex
X-PUBLISHED-TTL:PT1H
BEGIN:VTIMEZONE
TZID:UTC
BEGIN:STANDARD
TZOFFSETFROM:+0000
TZOFFSETTO:+0000
TZNAME:UTC
DTSTART:20250101T000000
END:STANDARD
END:VTIMEZONE
BEGIN:VEVENT
DTSTART;TZID=UTC:20250903T193000
DTEND;TZID=UTC:20250903T220000
DTSTAMP:20260419T223007
CREATED:20250828T081830Z
LAST-MODIFIED:20250828T081830Z
UID:1257-1756927800-1756936800@sport.seregno.eu
SUMMARY:Nordic Walking Night
DESCRIPTION:Camminata con i bastoncini per le aree verdi del quartiere San Salvatore Dosso. Partenza dal Parco di via Montello
URL:https://sport.seregno.eu/eventi/nordic-walking-night-8/
CATEGORIES:Eventi per tutti
ATTACH;FMTTYPE=image/jpeg:https://sport.seregno.eu/wp-content/uploads/2025/08/06-04_Camosci.jpg
END:VEVENT
BEGIN:VEVENT
DTSTART;TZID=UTC:20250903T110000
DTEND;TZID=UTC:20250903T120000
DTSTAMP:20260419T223007
CREATED:20250801T145248Z
LAST-MODIFIED:20250801T145248Z
UID:1249-1756897200-1756900800@sport.seregno.eu
SUMMARY:60 minuti con Stefano Domenicali
DESCRIPTION:Nella settimana del Gran Premio d’Italia di Formula Uno a Monza\, Maurizio Losa intervista Stefano Domenicali\, Ceo di Formula One Group.\nSala Gandini ore 11\, ingresso libero ma prenotazione obbligatoria a seguente link https://stefano-domenicali-formula-1.eventbrite.it
URL:https://sport.seregno.eu/eventi/60-minuti-con-stefano-domenicali/
CATEGORIES:Motori
ATTACH;FMTTYPE=image/jpeg:https://sport.seregno.eu/wp-content/uploads/2025/08/Immagine-WhatsApp-2025-07-31-ore-17.10.35_4867b73f.jpg
END:VEVENT
BEGIN:VEVENT
DTSTART;TZID=UTC:20250726T173000
DTEND;TZID=UTC:20250726T210000
DTSTAMP:20260419T223007
CREATED:20250717T104904Z
LAST-MODIFIED:20250717T104904Z
UID:1242-1753551000-1753563600@sport.seregno.eu
SUMMARY:Seregno Pole Vault
DESCRIPTION:Meeting di Salto con l’asta\nVia Porada all’interno di Seregno Sound Festival
URL:https://sport.seregno.eu/eventi/seregno-pole-vault/
CATEGORIES:Atletica Leggera
ATTACH;FMTTYPE=image/jpeg:https://sport.seregno.eu/wp-content/uploads/2025/07/Immagine-WhatsApp-2025-07-10-ore-14.14.28_dd549aaa.jpg
END:VEVENT
BEGIN:VEVENT
DTSTART;TZID=UTC:20250723T203000
DTEND;TZID=UTC:20250723T223000
DTSTAMP:20260419T223007
CREATED:20250616T163401Z
LAST-MODIFIED:20250616T163401Z
UID:1217-1753302600-1753309800@sport.seregno.eu
SUMMARY:Nordic Walking Night
DESCRIPTION:Camminata con i bastoncini per le aree verdi del quartiere Ceredo e Meredo
URL:https://sport.seregno.eu/eventi/nordic-walking-night-7/
CATEGORIES:Eventi per tutti
ATTACH;FMTTYPE=image/jpeg:https://sport.seregno.eu/wp-content/uploads/2025/06/Camosci_completo.jpg
END:VEVENT
BEGIN:VEVENT
DTSTART;TZID=UTC:20250719T100000
DTEND;TZID=UTC:20250719T170000
DTSTAMP:20260419T223007
CREATED:20250717T104233Z
LAST-MODIFIED:20250717T104318Z
UID:1238-1752919200-1752944400@sport.seregno.eu
SUMMARY:Torneo 3x3 HP Training
DESCRIPTION:Tradizionale evento amichevole di metà estate.\nAl PalaSomaschini\, dalle ore 10 alle ore 17
URL:https://sport.seregno.eu/eventi/torneo-3x3-hp-training/
CATEGORIES:Hockey su pista
ATTACH;FMTTYPE=image/jpeg:https://sport.seregno.eu/wp-content/uploads/2025/07/Immagine-WhatsApp-2025-07-16-ore-10.43.22_cb283f9f.jpg
END:VEVENT
BEGIN:VEVENT
DTSTART;TZID=UTC:20250716T203000
DTEND;TZID=UTC:20250716T223000
DTSTAMP:20260419T223007
CREATED:20250402T152522Z
LAST-MODIFIED:20250402T152522Z
UID:886-1752697800-1752705000@sport.seregno.eu
SUMMARY:Nordic Walking Night
DESCRIPTION:Camminata con i bastoncini per le aree verdi del quartiere San Salvatore Dosso.
URL:https://sport.seregno.eu/eventi/nordic-walking-night-4/
CATEGORIES:Eventi per tutti
ATTACH;FMTTYPE=image/jpeg:https://sport.seregno.eu/wp-content/uploads/2025/04/06-04_Camosci.jpg
END:VEVENT
BEGIN:VEVENT
DTSTART;TZID=UTC:20250709T203000
DTEND;TZID=UTC:20250709T230000
DTSTAMP:20260419T223007
CREATED:20250402T153551Z
LAST-MODIFIED:20250404T131649Z
UID:896-1752093000-1752102000@sport.seregno.eu
SUMMARY:Nordic Walking Night
DESCRIPTION:Camminata con i bastoncini per le aree verdi del quartiere Lazzaretto San Giuseppe.
URL:https://sport.seregno.eu/eventi/nordic-walking-night-6/
CATEGORIES:Eventi per tutti
ATTACH;FMTTYPE=image/jpeg:https://sport.seregno.eu/wp-content/uploads/2025/04/Immagine-WhatsApp-2025-04-04-ore-09.02.58_869359ed.jpg
END:VEVENT
BEGIN:VEVENT
DTSTART;TZID=UTC:20250702T203000
DTEND;TZID=UTC:20250702T223000
DTSTAMP:20260419T223007
CREATED:20250402T152239Z
LAST-MODIFIED:20250402T152239Z
UID:884-1751488200-1751495400@sport.seregno.eu
SUMMARY:Nordic Walking Night
DESCRIPTION:Camminata con i bastoncini per le aree verdi del quartiere San Salvatore Dosso.
URL:https://sport.seregno.eu/eventi/nordic-walking-night-3/
CATEGORIES:Eventi per tutti
ATTACH;FMTTYPE=image/jpeg:https://sport.seregno.eu/wp-content/uploads/2025/04/06-04_Camosci.jpg
END:VEVENT
BEGIN:VEVENT
DTSTART;TZID=UTC:20250629T093000
DTEND;TZID=UTC:20250629T120000
DTSTAMP:20260419T223007
CREATED:20250619T144531Z
LAST-MODIFIED:20250619T144531Z
UID:1231-1751189400-1751198400@sport.seregno.eu
SUMMARY:Stage di Karate
DESCRIPTION:Seishin-Do propone uno stage con Ilio Semino e Nadia Ferluga.\nAlla Palestra Don Milani
URL:https://sport.seregno.eu/eventi/stage-di-karate/
CATEGORIES:Karate
ATTACH;FMTTYPE=image/jpeg:https://sport.seregno.eu/wp-content/uploads/2025/06/06_29_Seishin_Do1.jpg
END:VEVENT
BEGIN:VEVENT
DTSTART;TZID=UTC:20250622T080000
DTEND;TZID=UTC:20250622T140000
DTSTAMP:20260419T223007
CREATED:20250519T212227Z
LAST-MODIFIED:20250618T123350Z
UID:1084-1750579200-1750600800@sport.seregno.eu
SUMMARY:Giro d'Italia Handbike
DESCRIPTION:Giro d’Italia Handbike 2025 – Quarta tappa – Seregno \nTutte le info a questo link \nTutte le info di viabilità a questo link.
URL:https://sport.seregno.eu/eventi/giro-ditalia-handbike/
CATEGORIES:Handbike
ATTACH;FMTTYPE=image/jpeg:https://sport.seregno.eu/wp-content/uploads/2025/05/HandBike-2.jpg
END:VEVENT
BEGIN:VEVENT
DTSTART;TZID=UTC:20250621T200000
DTEND;TZID=UTC:20250621T230000
DTSTAMP:20260419T223007
CREATED:20250616T162954Z
LAST-MODIFIED:20250616T162954Z
UID:1214-1750536000-1750546800@sport.seregno.eu
SUMMARY:Notte degli Oscar
DESCRIPTION:Il Seregno 2012 propone il saggio di fine anno della sezione pattinaggio artistico.\nAl PalaSomaschini
URL:https://sport.seregno.eu/eventi/notte-degli-oscar/
CATEGORIES:Pattinaggio Artistico
ATTACH;FMTTYPE=image/jpeg:https://sport.seregno.eu/wp-content/uploads/2025/06/06-21_Notte_Oscar.jpeg
END:VEVENT
BEGIN:VEVENT
DTSTART;TZID=UTC:20250621T080000
DTEND;TZID=UTC:20250621T190000
DTSTAMP:20260419T223007
CREATED:20250616T162620Z
LAST-MODIFIED:20250616T162620Z
UID:1211-1750492800-1750532400@sport.seregno.eu
SUMMARY:Torneo Intersezionale Aia Seregno
DESCRIPTION:Torneo di Calcio tra le rappresentative delle sezioni Aia – Figc di Seregno\, Monza\, Varese\, SAvona\, Cinisello\, Como\, Veneto Sud\, Imperia.\nAllo Stadio Ferruccio.
URL:https://sport.seregno.eu/eventi/torneo-intersezionale-aia-seregno/
CATEGORIES:Calcio
ATTACH;FMTTYPE=image/jpeg:https://sport.seregno.eu/wp-content/uploads/2025/06/06-21_Torneo_AiA-scaled.jpg
END:VEVENT
BEGIN:VEVENT
DTSTART;TZID=UTC:20250618T203000
DTEND;TZID=UTC:20250618T223000
DTSTAMP:20260419T223007
CREATED:20250402T151929Z
LAST-MODIFIED:20250402T151929Z
UID:882-1750278600-1750285800@sport.seregno.eu
SUMMARY:Nordic Walking Night
DESCRIPTION:Camminata con i bastoncini per le aree verdi del quartiere San Salvatore Dosso.
URL:https://sport.seregno.eu/eventi/nordic-walking-night-2/
CATEGORIES:Eventi per tutti
ATTACH;FMTTYPE=image/jpeg:https://sport.seregno.eu/wp-content/uploads/2025/04/06-04_Camosci.jpg
END:VEVENT
BEGIN:VEVENT
DTSTART;TZID=UTC:20250615T203000
DTEND;TZID=UTC:20250615T220000
DTSTAMP:20260419T223007
CREATED:20250528T102420Z
LAST-MODIFIED:20250528T102420Z
UID:1169-1750019400-1750024800@sport.seregno.eu
SUMMARY:Chiusura Seregno Sport Week 2025
DESCRIPTION:Saluti\, ringraziamenti e una carrellata con le varie associazioni sportive che ci racconteranno quanto fatto in questi primi 6 mesi di Città Europea dello Sport 2025 con immagini e filmati.
URL:https://sport.seregno.eu/eventi/chiusura-seregno-sport-week-2025/
LOCATION:Gelsia Sport Village\, Piazza Risorgimento\, Seregno\, 20831\, Italy
CATEGORIES:Eventi per tutti,Seregno Sport Week
ATTACH;FMTTYPE=image/jpeg:https://sport.seregno.eu/wp-content/uploads/2025/05/FGP2625-scaled.jpg
END:VEVENT
BEGIN:VEVENT
DTSTART;TZID=UTC:20250615T173000
DTEND;TZID=UTC:20250615T190000
DTSTAMP:20260419T223007
CREATED:20250605T075137Z
LAST-MODIFIED:20250605T082055Z
UID:1194-1750008600-1750014000@sport.seregno.eu
SUMMARY:Brianzacque Color Run
DESCRIPTION:Torna il tradizionale appuntamento con la Brianzacque Color Run. \nIscrizioni a questo link: https://brianzacque-color-run.eventbrite.it \nQuesti i moduli di liberatoria da compilare e consegnare alla partenza \nliberatoria color run SSW 2025_ MAGGIORENNI_ \nliberatoria color run SSW 2025_ MINORENNI_
URL:https://sport.seregno.eu/eventi/brianzacque-color-run/
CATEGORIES:Eventi per tutti
ATTACH;FMTTYPE=image/jpeg:https://sport.seregno.eu/wp-content/uploads/2025/06/Color-Run-Flyer.jpg
END:VEVENT
BEGIN:VEVENT
DTSTART;TZID=UTC:20250615T100000
DTEND;TZID=UTC:20250615T160000
DTSTAMP:20260419T223007
CREATED:20250610T173727Z
LAST-MODIFIED:20250610T173727Z
UID:1207-1749981600-1750003200@sport.seregno.eu
SUMMARY:La Porada Sboccia
DESCRIPTION:Torneo di bocce inclusivo
URL:https://sport.seregno.eu/eventi/la-porada-sboccia/
CATEGORIES:Bocce
ATTACH;FMTTYPE=image/jpeg:https://sport.seregno.eu/wp-content/uploads/2025/06/LA-PORADA-SBOCCIA-def.jpg
END:VEVENT
BEGIN:VEVENT
DTSTART;TZID=UTC:20250615T100000
DTEND;TZID=UTC:20250615T120000
DTSTAMP:20260419T223007
CREATED:20250610T173446Z
LAST-MODIFIED:20250610T173446Z
UID:1204-1749981600-1749988800@sport.seregno.eu
SUMMARY:Sport e Mente: Calma In Movimento
DESCRIPTION:Conferenza su Sport e Fragilità
URL:https://sport.seregno.eu/eventi/sport-e-mente-calma-in-movimento/
CATEGORIES:Conferenza
ATTACH;FMTTYPE=image/jpeg:https://sport.seregno.eu/wp-content/uploads/2025/06/Locandina-15.06.20251.jpg
END:VEVENT
BEGIN:VEVENT
DTSTART;TZID=UTC:20250615T093000
DTEND;TZID=UTC:20250615T190000
DTSTAMP:20260419T223007
CREATED:20250603T174353Z
LAST-MODIFIED:20250603T174353Z
UID:1191-1749979800-1750014000@sport.seregno.eu
SUMMARY:Torneo Internazionale Città di Seregno
DESCRIPTION:Torneo internazionale di pallacanestro in carrozzina con Vigor Seregno\, Hubo Limburg (Belgio)\, Tinga Basket (Marocco)\, Singidunum Red Star (Serbia).
URL:https://sport.seregno.eu/eventi/torneo-internazionale-citta-di-seregno/
CATEGORIES:Pallacanestro in Carrozzina
ATTACH;FMTTYPE=image/jpeg:https://sport.seregno.eu/wp-content/uploads/2025/06/06_15_Basket_Carrozzina1-scaled.jpg
END:VEVENT
BEGIN:VEVENT
DTSTART;TZID=UTC:20250614T190000
DTEND;TZID=UTC:20250614T220000
DTSTAMP:20260419T223007
CREATED:20250528T102109Z
LAST-MODIFIED:20250528T102109Z
UID:1165-1749927600-1749938400@sport.seregno.eu
SUMMARY:Seregno Fight Night 8 con Daniele "King Toretto" Scardina
DESCRIPTION:Seregno Fight Night 8 – Boxe & Kickboxing\, ospite Daniele “King Torretto” Scardina
URL:https://sport.seregno.eu/eventi/seregno-fight-night-8-con-daniele-king-toretto-scardina/
LOCATION:Gelsia Sport Village\, Piazza Risorgimento\, Seregno\, 20831\, Italy
CATEGORIES:Eventi sportivi,Pugilato,Seregno Sport Week
ATTACH;FMTTYPE=image/jpeg:https://sport.seregno.eu/wp-content/uploads/2025/05/SER05295-scaled.jpg
END:VEVENT
BEGIN:VEVENT
DTSTART;TZID=UTC:20250614T160000
DTEND;TZID=UTC:20250615T030000
DTSTAMP:20260419T223007
CREATED:20250519T204343Z
LAST-MODIFIED:20250519T204343Z
UID:1073-1749916800-1749956400@sport.seregno.eu
SUMMARY:Let's play 3v3
DESCRIPTION:Non stop di basket tre contro tre organizzata dal Basket Seregno al PalaSomaschini
URL:https://sport.seregno.eu/eventi/lets-play-3v3/
CATEGORIES:Pallacanestro
ATTACH;FMTTYPE=image/jpeg:https://sport.seregno.eu/wp-content/uploads/2025/05/Immagine-WhatsApp-2025-05-14-ore-10.51.01_d0a0ead8.jpg
END:VEVENT
BEGIN:VEVENT
DTSTART;TZID=UTC:20250614T143000
DTEND;TZID=UTC:20250615T123000
DTSTAMP:20260419T223007
CREATED:20250402T154933Z
LAST-MODIFIED:20250402T155124Z
UID:898-1749911400-1749990600@sport.seregno.eu
SUMMARY:Raduno Nazionale Vespa Club
DESCRIPTION:Il Vespa Club Seregno organizza il primo raduno nazionale per appassionati e collezionisti
URL:https://sport.seregno.eu/eventi/raduno-nazionale-vespa-club/
CATEGORIES:Motori
ATTACH;FMTTYPE=image/jpeg:https://sport.seregno.eu/wp-content/uploads/2025/04/Immagine-WhatsApp-2025-04-01-ore-20.57.42_99339263-1.jpg
END:VEVENT
BEGIN:VEVENT
DTSTART;TZID=UTC:20250613T210000
DTEND;TZID=UTC:20250613T230000
DTSTAMP:20260419T223007
CREATED:20250528T101610Z
LAST-MODIFIED:20250528T101610Z
UID:1162-1749848400-1749855600@sport.seregno.eu
SUMMARY:Talk Show Esordienti: Fabio Caressa dialoga con Lisa Offside
DESCRIPTION:Nell’ambito dei talk organizzati per Seregno Città europea dello sport Lisa Offside dialoga con Fabio Caressa\, fra i telecronisti più importanti in Italia\, già direttore di Sky Sport.
URL:https://sport.seregno.eu/eventi/talk-show-esordienti-fabio-caressa-dialoga-con-lisa-offside/
LOCATION:Gelsia Sport Village\, Piazza Risorgimento\, Seregno\, 20831\, Italy
ATTACH;FMTTYPE=image/jpeg:https://sport.seregno.eu/wp-content/uploads/2025/05/fabio-caressa-24-5-2025-temporeale.jpg
END:VEVENT
BEGIN:VEVENT
DTSTART;TZID=UTC:20250613T210000
DTEND;TZID=UTC:20250613T230000
DTSTAMP:20260419T223007
CREATED:20250522T170654Z
LAST-MODIFIED:20250528T133224Z
UID:1122-1749848400-1749855600@sport.seregno.eu
SUMMARY:Le Sfide sportive in Vespa e in Lambretta
DESCRIPTION:Incontro con i collezionisti Roberto Donati\, Vincenzo Tessera e Paolo Zanon.\nIn sala Gandini
URL:https://sport.seregno.eu/eventi/le-sfide-sportive-di-vespa-e-lambretta/
CATEGORIES:Motori
ATTACH;FMTTYPE=image/jpeg:https://sport.seregno.eu/wp-content/uploads/2025/05/Conferenza-Vespa-e-Lambretta-2025-rev.-011-scaled.jpg
END:VEVENT
BEGIN:VEVENT
DTSTART;TZID=UTC:20250613T203000
DTEND;TZID=UTC:20250613T230000
DTSTAMP:20260419T223007
CREATED:20250530T081104Z
LAST-MODIFIED:20250530T082616Z
UID:1181-1749846600-1749855600@sport.seregno.eu
SUMMARY:Odissea
DESCRIPTION:La Polisportiva Giovanni XXIII propone il saggio Odissea\nOspiti Micol Mills e Tommaso Cortini
URL:https://sport.seregno.eu/eventi/odissea/
CATEGORIES:Pattinaggio Artistico
ATTACH;FMTTYPE=image/jpeg:https://sport.seregno.eu/wp-content/uploads/2025/05/Immagine-WhatsApp-2025-05-30-ore-09.27.53_81b4ac3b.jpg
END:VEVENT
BEGIN:VEVENT
DTSTART;TZID=UTC:20250613T053000
DTEND;TZID=UTC:20250613T073000
DTSTAMP:20260419T223007
CREATED:20250505T175312Z
LAST-MODIFIED:20250505T175312Z
UID:1035-1749792600-1749799800@sport.seregno.eu
SUMMARY:5.45 Run Walk Breakfast
DESCRIPTION:Tradizionale non competitiva all’alba!\nPartenza da via Porada\nOrganizzazione Porada Run
URL:https://sport.seregno.eu/eventi/5-45-run-walk-breakfast/
CATEGORIES:Eventi per tutti
ATTACH;FMTTYPE=image/jpeg:https://sport.seregno.eu/wp-content/uploads/2025/05/Immagine-WhatsApp-2025-04-24-ore-15.54.14_59516c8e.jpg
END:VEVENT
BEGIN:VEVENT
DTSTART;TZID=UTC:20250612T203000
DTEND;TZID=UTC:20250612T233000
DTSTAMP:20260419T223007
CREATED:20250519T234500Z
LAST-MODIFIED:20250519T234500Z
UID:1106-1749760200-1749771000@sport.seregno.eu
SUMMARY:Premiazioni Figc
DESCRIPTION:La Figc Comitato Monza e Brianza premia i vincitori dei vari campionati per la stagione 2024/2025
URL:https://sport.seregno.eu/eventi/premiazioni-figc/
CATEGORIES:Serata di Gala
ATTACH;FMTTYPE=image/png:https://sport.seregno.eu/wp-content/uploads/2025/05/images.png
END:VEVENT
BEGIN:VEVENT
DTSTART;TZID=UTC:20250612T203000
DTEND;TZID=UTC:20250612T223000
DTSTAMP:20260419T223007
CREATED:20250402T153243Z
LAST-MODIFIED:20250404T131611Z
UID:891-1749760200-1749767400@sport.seregno.eu
SUMMARY:Nordic Walking Night
DESCRIPTION:Camminata con i bastoncini per le aree verdi del quartiere Lazzaretto San Giuseppe.
URL:https://sport.seregno.eu/eventi/nordic-walking-night-5/
CATEGORIES:Eventi per tutti
ATTACH;FMTTYPE=image/jpeg:https://sport.seregno.eu/wp-content/uploads/2025/04/Immagine-WhatsApp-2025-04-04-ore-09.02.58_869359ed.jpg
END:VEVENT
BEGIN:VEVENT
DTSTART;TZID=UTC:20250610T203000
DTEND;TZID=UTC:20250610T223000
DTSTAMP:20260419T223007
CREATED:20250402T152840Z
LAST-MODIFIED:20250402T152840Z
UID:888-1749587400-1749594600@sport.seregno.eu
SUMMARY:Il cammino e la gestione delle emozioni
DESCRIPTION:Il Gruppo Camosci propone un incontro su il Cammino e la Gestione delle emozioni.\nincontro con le dottoresse Chiara Gatti e Valentina Brenna
URL:https://sport.seregno.eu/eventi/il-cammino-e-la-gestione-delle-emozioni/
CATEGORIES:Conferenza
ATTACH;FMTTYPE=image/jpeg:https://sport.seregno.eu/wp-content/uploads/2025/04/06-10_Camosci.jpg
END:VEVENT
BEGIN:VEVENT
DTSTART;TZID=UTC:20250610T173000
DTEND;TZID=UTC:20250615T223000
DTSTAMP:20260419T223007
CREATED:20250519T230430Z
LAST-MODIFIED:20250519T230430Z
UID:1091-1749576600-1750026600@sport.seregno.eu
SUMMARY:Arrampica con noi
DESCRIPTION:Parete di arrampicata aperta a tutti \nAl Gelsia Village di piazza Risorgimento
URL:https://sport.seregno.eu/eventi/arrampica-con-noi/
CATEGORIES:Eventi per tutti
ATTACH;FMTTYPE=image/jpeg:https://sport.seregno.eu/wp-content/uploads/2025/05/Screenshot_20250520_010106_PDF-Scanner.jpg
END:VEVENT
BEGIN:VEVENT
DTSTART;TZID=UTC:20250609T204500
DTEND;TZID=UTC:20250609T230000
DTSTAMP:20260419T223007
CREATED:20250528T101014Z
LAST-MODIFIED:20250603T173831Z
UID:1158-1749501900-1749510000@sport.seregno.eu
SUMMARY:Italia - Moldavia
DESCRIPTION:Maxischermo: Italia-Moldavia\, qualificazioni ai Campionati Mondiali di Calcio.
URL:https://sport.seregno.eu/eventi/italia-moldavia/
LOCATION:Gelsia Sport Village\, Piazza Risorgimento\, Seregno\, 20831\, Italy
CATEGORIES:Seregno Sport Week
ATTACH;FMTTYPE=image/jpeg:https://sport.seregno.eu/wp-content/uploads/2025/05/w2qsqruv737zhmis45ku.jpg
END:VEVENT
END:VCALENDAR