BEGIN:VCALENDAR
VERSION:2.0
PRODID:-//Sport Seregno - ECPv6.9.0//NONSGML v1.0//EN
CALSCALE:GREGORIAN
METHOD:PUBLISH
X-ORIGINAL-URL:https://sport.seregno.eu
X-WR-CALDESC:Eventi per Sport Seregno
REFRESH-INTERVAL;VALUE=DURATION:PT1H
X-Robots-Tag:noindex
X-PUBLISHED-TTL:PT1H
BEGIN:VTIMEZONE
TZID:UTC
BEGIN:STANDARD
TZOFFSETFROM:+0000
TZOFFSETTO:+0000
TZNAME:UTC
DTSTART:20250101T000000
END:STANDARD
END:VTIMEZONE
BEGIN:VEVENT
DTSTART;TZID=UTC:20250607T190000
DTEND;TZID=UTC:20250607T210000
DTSTAMP:20260422T114844
CREATED:20250529T074936Z
LAST-MODIFIED:20250529T074947Z
UID:1174-1749322800-1749330000@sport.seregno.eu
SUMMARY:GP Nord Italia di Natural Body Building
DESCRIPTION:La New Body Building Union International propone il Gp Nord Italia di Body Building\nIn Auditorium
URL:https://sport.seregno.eu/eventi/gp-nord-italia-di-natural-body-building/
ATTACH;FMTTYPE=image/jpeg:https://sport.seregno.eu/wp-content/uploads/2025/05/Immagine-WhatsApp-2025-05-29-ore-08.42.27_c952e8f1.jpg
END:VEVENT
BEGIN:VEVENT
DTSTART;TZID=UTC:20250607T100000
DTEND;TZID=UTC:20250607T173000
DTSTAMP:20260422T114844
CREATED:20250528T100342Z
LAST-MODIFIED:20250528T100342Z
UID:1151-1749290400-1749317400@sport.seregno.eu
SUMMARY:Esibizioni e corsi di fitness\, zumba\, fit box\, arti marziali
DESCRIPTION:Dalle 10 alle 12 e dalle 17 alle 17.30 l’ASD Natural Body Building – Union of Italy propone esibizioni e corsi di fitness\, zumba\, fit box\, arti marziali
URL:https://sport.seregno.eu/eventi/esibizioni-e-corsi-di-fitness-zumba-fit-box-arti-marziali/
LOCATION:Gelsia Sport Village\, Piazza Risorgimento\, Seregno\, 20831\, Italy
CATEGORIES:Eventi sportivi
ATTACH;FMTTYPE=image/jpeg:https://sport.seregno.eu/wp-content/uploads/2025/05/fitness-roma-sud.jpg
END:VEVENT
BEGIN:VEVENT
DTSTART;TZID=UTC:20250606T203000
DTEND;TZID=UTC:20250606T223000
DTSTAMP:20260422T114844
CREATED:20250603T173758Z
LAST-MODIFIED:20250603T174119Z
UID:1188-1749241800-1749249000@sport.seregno.eu
SUMMARY:Norvegia - Italia
DESCRIPTION:Gelsia Sport Village Piazza Risorgimento\, Seregno\, Italy\nMaxischermo: Norvegia – Italia\, qualificazioni ai Campionati Mondiali di Calcio.
URL:https://sport.seregno.eu/eventi/norvegia-italia/
CATEGORIES:Seregno Sport Week
ATTACH;FMTTYPE=image/jpeg:https://sport.seregno.eu/wp-content/uploads/2025/05/w2qsqruv737zhmis45ku.jpg
END:VEVENT
BEGIN:VEVENT
DTSTART;VALUE=DATE:20250606
DTEND;VALUE=DATE:20250609
DTSTAMP:20260422T114844
CREATED:20250519T233847Z
LAST-MODIFIED:20250605T082052Z
UID:1103-1749168000-1749427199@sport.seregno.eu
SUMMARY:Jr Nba Fip Championship Under 13 Finals
DESCRIPTION:Finali nazionali Under 13 di Basket\nOrganizzazione Basket Seregno  \nA questo link il programma completo: https://fip.it/la-conferenza-del-final-event-jr-nba-fip-under-13-di-seregno-online-la-brochure-campo-a-su-twitch-italbasket/
URL:https://sport.seregno.eu/eventi/jr-nba-fip-championship-under-13-finals/
CATEGORIES:Pallacanestro
ATTACH;FMTTYPE=image/jpeg:https://sport.seregno.eu/wp-content/uploads/2025/05/Screenshot_20250520_013547_PDF-Scanner.jpg
END:VEVENT
BEGIN:VEVENT
DTSTART;TZID=UTC:20250605T210000
DTEND;TZID=UTC:20250605T230000
DTSTAMP:20260422T114844
CREATED:20250528T083151Z
LAST-MODIFIED:20250528T083151Z
UID:1148-1749157200-1749164400@sport.seregno.eu
SUMMARY:Talk Show Esordienti: Vincenzo Nibali dialoga con Lisa Offside
DESCRIPTION:Uno dei più grandi ciclisti italiani della storia arriva a Seregno per uno dei “Talk show esordienti”.\nConduce la serata Lisa Offside.
URL:https://sport.seregno.eu/eventi/talk-show-esordienti-vincenzo-nibali-dialoga-con-lisa-offside/
LOCATION:Gelsia Sport Village\, Piazza Risorgimento\, Seregno\, 20831\, Italy
CATEGORIES:Ciclismo,Eventi sportivi,Seregno Sport Week,Talk
ATTACH;FMTTYPE=image/jpeg:https://sport.seregno.eu/wp-content/uploads/2025/05/Vincenzo-Nibali-chiude-comunque-da-protagonista-e1653762619544.jpg
END:VEVENT
BEGIN:VEVENT
DTSTART;TZID=UTC:20250605T180000
DTEND;TZID=UTC:20250605T193000
DTSTAMP:20260422T114844
CREATED:20250515T162241Z
LAST-MODIFIED:20250528T172634Z
UID:1048-1749146400-1749151800@sport.seregno.eu
SUMMARY:Open Day Atletica
DESCRIPTION:Anfass Seregno\, Facciavista Onlus e 5 Cerchi Seregno organizzano un open day inclusivo\, un’occasione per abbattere le barriere e promuovere l’inclusione dello sport.
URL:https://sport.seregno.eu/eventi/open-day-atletica/
CATEGORIES:Atletica Leggera
ATTACH;FMTTYPE=image/jpeg:https://sport.seregno.eu/wp-content/uploads/2025/05/Summer_camp_5cerchi2_Pagina_1-scaled.jpg
END:VEVENT
BEGIN:VEVENT
DTSTART;TZID=UTC:20250604T203000
DTEND;TZID=UTC:20250604T223000
DTSTAMP:20260422T114844
CREATED:20250402T151346Z
LAST-MODIFIED:20250402T151346Z
UID:879-1749069000-1749076200@sport.seregno.eu
SUMMARY:Nordic Walking Night
DESCRIPTION:Camminata con i bastoncini per le aree verdi del quartiere San Salvatore Dosso.
URL:https://sport.seregno.eu/eventi/nordic-walking-night/
ATTACH;FMTTYPE=image/jpeg:https://sport.seregno.eu/wp-content/uploads/2025/04/06-04_Camosci.jpg
END:VEVENT
BEGIN:VEVENT
DTSTART;TZID=UTC:20250602T210000
DTEND;TZID=UTC:20250602T230000
DTSTAMP:20260422T114844
CREATED:20250528T082842Z
LAST-MODIFIED:20250528T082842Z
UID:1146-1748898000-1748905200@sport.seregno.eu
SUMMARY:Proiezione del film "Invictus"
DESCRIPTION:Il racconto di una storia bellissima di sport\, che racconta molto della vita.
URL:https://sport.seregno.eu/eventi/proiezione-del-film-invictus/
LOCATION:Gelsia Sport Village\, Piazza Risorgimento\, Seregno\, 20831\, Italy
CATEGORIES:Film,Seregno Sport Week
ATTACH;FMTTYPE=image/jpeg:https://sport.seregno.eu/wp-content/uploads/2025/05/Invictus-Sentieri-2.jpg
END:VEVENT
BEGIN:VEVENT
DTSTART;TZID=UTC:20250602T183000
DTEND;TZID=UTC:20250602T203000
DTSTAMP:20260422T114844
CREATED:20250528T082642Z
LAST-MODIFIED:20250528T082642Z
UID:1141-1748889000-1748896200@sport.seregno.eu
SUMMARY:Proiezione del film "Space Jam"
DESCRIPTION:Un film che ha fatto la storia del cinema con protagonista Michael Jordan e i Looney Tunes.
URL:https://sport.seregno.eu/eventi/proiezione-del-film-space-jam/
LOCATION:Gelsia Sport Village\, Piazza Risorgimento\, Seregno\, 20831\, Italy
CATEGORIES:Film,Seregno Sport Week
ATTACH;FMTTYPE=image/jpeg:https://sport.seregno.eu/wp-content/uploads/2025/05/AAAABUuMrcWe1Fwk0UwG9gge8AEL3ls25PCevA4wgfdPR3SMehBITtLN5fl_mEL-11F5cfV7-DstZApqcZGFBEmyuZR88NLK2ROew4No.jpg
END:VEVENT
BEGIN:VEVENT
DTSTART;TZID=UTC:20250602T083000
DTEND;TZID=UTC:20250602T130000
DTSTAMP:20260422T114844
CREATED:20250519T203829Z
LAST-MODIFIED:20250519T203855Z
UID:1070-1748853000-1748869200@sport.seregno.eu
SUMMARY:Bicinfesta
DESCRIPTION:Tradizionale pedalata non competitiva aperta a tutti. \nInfo: ufficio sport Comune di Seregno tel. 0362263447.
URL:https://sport.seregno.eu/eventi/bicinfesta/
CATEGORIES:Eventi per tutti
ATTACH;FMTTYPE=image/jpeg:https://sport.seregno.eu/wp-content/uploads/2025/05/Immagine-WhatsApp-2025-05-19-ore-09.24.13_b9522e0b.jpg
END:VEVENT
BEGIN:VEVENT
DTSTART;VALUE=DATE:20250602
DTEND;VALUE=DATE:20250603
DTSTAMP:20260422T114844
CREATED:20250522T171038Z
LAST-MODIFIED:20250522T171038Z
UID:1125-1748822400-1748908799@sport.seregno.eu
SUMMARY:Corsa in montagna
DESCRIPTION:Il Gruppo Camosci propone la 54.esima edizione della Erba – Capanna Mara.
URL:https://sport.seregno.eu/eventi/corsa-in-montagna/
CATEGORIES:Atletica Leggera
ATTACH;FMTTYPE=image/jpeg:https://sport.seregno.eu/wp-content/uploads/2025/05/499666370_1262766762516633_3107363147794929606_n.jpg
END:VEVENT
BEGIN:VEVENT
DTSTART;TZID=UTC:20250601T080000
DTEND;TZID=UTC:20250602T170000
DTSTAMP:20260422T114844
CREATED:20250519T174432Z
LAST-MODIFIED:20250519T174432Z
UID:1057-1748764800-1748883600@sport.seregno.eu
SUMMARY:Coppa Italia Gruppi Artistico
DESCRIPTION:Il Seregno Hockey ospita le finali di Coppa Italia Fisr
URL:https://sport.seregno.eu/eventi/coppa-italia-gruppi-artistico/
CATEGORIES:Pattinaggio Artistico
ATTACH;FMTTYPE=image/jpeg:https://sport.seregno.eu/wp-content/uploads/2025/05/498119207_1438088593818943_5352267262710743987_n.jpg
END:VEVENT
BEGIN:VEVENT
DTSTART;TZID=UTC:20250531T170000
DTEND;TZID=UTC:20250615T193000
DTSTAMP:20260422T114844
CREATED:20250519T225847Z
LAST-MODIFIED:20250519T225847Z
UID:1088-1748710800-1750015800@sport.seregno.eu
SUMMARY:La Vespa e lo sport
DESCRIPTION:Un omaggio del Vespa Club Seregno a tutti gli appassionati  \nIn sala civica Ezio Mariani
URL:https://sport.seregno.eu/eventi/la-vespa-e-lo-sport/
CATEGORIES:Mostra
ATTACH;FMTTYPE=image/jpeg:https://sport.seregno.eu/wp-content/uploads/2025/05/FB_IMG_1747695314368.jpg
END:VEVENT
BEGIN:VEVENT
DTSTART;TZID=UTC:20250531T120000
DTEND;TZID=UTC:20250531T180000
DTSTAMP:20260422T114844
CREATED:20250519T204634Z
LAST-MODIFIED:20250519T210720Z
UID:1076-1748692800-1748714400@sport.seregno.eu
SUMMARY:Torneo di Scacchi under 14
DESCRIPTION:Torneo di scacchi giovanile proposto dal Comitato di Quartiere San Carlo\nAll’Oratorio di San Carlo\, in via San Carlo
URL:https://sport.seregno.eu/eventi/torneo-di-scacchi-under-14/
CATEGORIES:Scacchi
ATTACH;FMTTYPE=image/jpeg:https://sport.seregno.eu/wp-content/uploads/2025/05/Immagine-WhatsApp-2025-05-13-ore-15.33.15_63585292.jpg
END:VEVENT
BEGIN:VEVENT
DTSTART;TZID=UTC:20250531T090000
DTEND;TZID=UTC:20250602T193000
DTSTAMP:20260422T114844
CREATED:20250520T164930Z
LAST-MODIFIED:20250520T164930Z
UID:1109-1748682000-1748892600@sport.seregno.eu
SUMMARY:Torneo Chipmunks di Basket Seregno
DESCRIPTION:Il Basket Seregno organizza un torneo di minibasket per bambini della categoria Scoiattoli.\nAlle palestre Don Milani e Manzoni.
URL:https://sport.seregno.eu/eventi/torneo-chipmunks-di-basket-seregno/
CATEGORIES:Pallacanestro
ATTACH;FMTTYPE=image/jpeg:https://sport.seregno.eu/wp-content/uploads/2025/05/Immagine-WhatsApp-2025-05-20-ore-15.27.17_868aa54b.jpg
END:VEVENT
BEGIN:VEVENT
DTSTART;TZID=UTC:20250531T080000
DTEND;TZID=UTC:20250622T170000
DTSTAMP:20260422T114844
CREATED:20250320T170928Z
LAST-MODIFIED:20250320T170928Z
UID:857-1748678400-1750611600@sport.seregno.eu
SUMMARY:Polis Cup - terza edizione
DESCRIPTION:La Polis San Giovanni Paolo II propone tornei di Calcio a 7\, Calcio a 11 e Pallavolo per squadre Csi.
URL:https://sport.seregno.eu/eventi/polis-cup-terza-edizione/
CATEGORIES:Calcio,Pallavolo
ATTACH;FMTTYPE=image/jpeg:https://sport.seregno.eu/wp-content/uploads/2025/03/Immagine-WhatsApp-2025-03-20-ore-11.46.36_e6032140.jpg
END:VEVENT
BEGIN:VEVENT
DTSTART;TZID=UTC:20250530T200000
DTEND;TZID=UTC:20250615T230000
DTSTAMP:20260422T114844
CREATED:20250519T203453Z
LAST-MODIFIED:20250519T203525Z
UID:1065-1748635200-1750028400@sport.seregno.eu
SUMMARY:Seregno Sport Week 2025
DESCRIPTION:Campi sportivi ed eventi in piazza.
URL:https://sport.seregno.eu/eventi/seregno-sport-week-2025/
CATEGORIES:Eventi per tutti
ATTACH;FMTTYPE=image/jpeg:https://sport.seregno.eu/wp-content/uploads/2025/05/Immagine-WhatsApp-2025-05-19-ore-22.30.55_4dcdfb6b.jpg
END:VEVENT
BEGIN:VEVENT
DTSTART;TZID=UTC:20250530T080000
DTEND;TZID=UTC:20250530T233000
DTSTAMP:20260422T114844
CREATED:20250522T165955Z
LAST-MODIFIED:20250526T170411Z
UID:1117-1748592000-1748647800@sport.seregno.eu
SUMMARY:Saggio Salus Ginnastica L'Europa
DESCRIPTION:APERTURA SEREGNO SPORT WEEK / SAGGIO FINE CORSI SALUS GINNASTICA 2024/25  \nOre 20/20.15 PalaSomaschini\, via alla Porada  \nA cura di Salus sportiva ginnastica
URL:https://sport.seregno.eu/eventi/1117/
CATEGORIES:Ginnastica
ATTACH;FMTTYPE=image/jpeg:https://sport.seregno.eu/wp-content/uploads/2025/05/Immagine-WhatsApp-2025-05-22-ore-17.21.28_967944bd.jpg
END:VEVENT
BEGIN:VEVENT
DTSTART;TZID=UTC:20250529T140000
DTEND;TZID=UTC:20250529T170000
DTSTAMP:20260422T114844
CREATED:20250424T132957Z
LAST-MODIFIED:20250519T174711Z
UID:1017-1748527200-1748538000@sport.seregno.eu
SUMMARY:Giro d'Italia - Sosta Ufficiale
DESCRIPTION:Giro d’Italia 2025 – Tappa Morbegno – Cesano Maderno\nSosta ufficiale della Carovana del Giro d’Italia giovedì 29 maggio ore 15.15
URL:https://sport.seregno.eu/eventi/giro-ditalia-sosta-ufficiale/
CATEGORIES:Ciclismo
ATTACH;FMTTYPE=image/jpeg:https://sport.seregno.eu/wp-content/uploads/2025/04/Immagine-WhatsApp-2025-05-19-ore-11.47.12_57f9fa33.jpg
END:VEVENT
BEGIN:VEVENT
DTSTART;TZID=UTC:20250525T093000
DTEND;TZID=UTC:20250525T133000
DTSTAMP:20260422T114844
CREATED:20250505T172526Z
LAST-MODIFIED:20250505T173036Z
UID:1023-1748165400-1748179800@sport.seregno.eu
SUMMARY:Volley School Manu Benelli
DESCRIPTION:Nono appuntamento dell’anno solare con il corso – masterclass con la allenatrice Manuela Benelli. Evento proposto da Majestic Volley
URL:https://sport.seregno.eu/eventi/volley-school-manu-benelli-9/
CATEGORIES:Pallavolo
ATTACH;FMTTYPE=image/jpeg:https://sport.seregno.eu/wp-content/uploads/2025/01/Immagine-WhatsApp-2024-12-27-ore-15.39.36_bd7701be.jpg
END:VEVENT
BEGIN:VEVENT
DTSTART;TZID=UTC:20250525T023000
DTEND;TZID=UTC:20250525T170000
DTSTAMP:20260422T114844
CREATED:20250522T165701Z
LAST-MODIFIED:20250522T165701Z
UID:1114-1748140200-1748192400@sport.seregno.eu
SUMMARY:SPORT PER TUTTI E PER CIASCUNO
DESCRIPTION:FESTA MINIBASKET   \n(Un canestro con la scuola ucraina + Clinic Minibasket + Basket a scuola)  \nFesta di minibasket con giochi\, staffette\, gare e minipartite per chiudere attività dell’anno  \nOre 14.30 – Palestra Manzoni  \nA cura di Basket San Rocco
URL:https://sport.seregno.eu/eventi/sport-per-tutti-e-per-ciascuno/
CATEGORIES:Pallacanestro
ATTACH;FMTTYPE=image/jpeg:https://sport.seregno.eu/wp-content/uploads/2025/05/280764690_126064580071056_5200464787205600125_n.jpg
END:VEVENT
BEGIN:VEVENT
DTSTART;TZID=UTC:20250524T140000
DTEND;TZID=UTC:20250524T190000
DTSTAMP:20260422T114844
CREATED:20250508T160719Z
LAST-MODIFIED:20250508T160719Z
UID:1042-1748095200-1748113200@sport.seregno.eu
SUMMARY:Giochi Studenteschi di Scacchi
DESCRIPTION:Alla Scuola Rodari\, gli alunni dei primi due anni delle scuole primarie e quelli delle scuole secondarie di primo grado della città sono impegnate nei Giochi Studenteschi di Scacchi. In collaborazione con Gruppo Scacchi Judicello.
URL:https://sport.seregno.eu/eventi/giochi-studenteschi-di-scacchi/
CATEGORIES:Giochi Studenteschi
ATTACH;FMTTYPE=image/jpeg:https://sport.seregno.eu/wp-content/uploads/2025/01/Immagine-WhatsApp-2025-01-20-ore-11.41.19_fea44f72.jpg
END:VEVENT
BEGIN:VEVENT
DTSTART;TZID=UTC:20250524T080000
DTEND;TZID=UTC:20250525T190000
DTSTAMP:20260422T114844
CREATED:20250505T174301Z
LAST-MODIFIED:20250505T174301Z
UID:1028-1748073600-1748199600@sport.seregno.eu
SUMMARY:Trofeo Città di Seregno
DESCRIPTION:Trofeo di nuoto agonistico per atleti tesserati FIN – 44.esima edizione.\nAl Centro Natatorio della Porada
URL:https://sport.seregno.eu/eventi/trofeo-citta-di-seregno/
CATEGORIES:Nuoto
ATTACH;FMTTYPE=image/jpeg:https://sport.seregno.eu/wp-content/uploads/2025/05/492400211_1286306753500664_1571106684716738732_n.jpg
END:VEVENT
BEGIN:VEVENT
DTSTART;TZID=UTC:20250524T060000
DTEND;TZID=UTC:20250524T170000
DTSTAMP:20260422T114844
CREATED:20250423T133103Z
LAST-MODIFIED:20250423T133103Z
UID:1013-1748066400-1748106000@sport.seregno.eu
SUMMARY:Due Ruote per Due Campanili
DESCRIPTION:PROGRAMMA\nore 6 Ritrovo e partenza di tutti i ciclisti da Seregno\, via Verdi/ via Monterosa lato Istituto Piccolo Cottolengo Don Orione. \nore 9 Raduno di tutti i partecipanti presso il SANTUARIO MADONNA DELLA GUARDIA in Tortona\, omaggio alla salma di San Luigi Orione e Benedizione. \nore 10 Incolonnamento e trasferimento dal piazzale antistante il Santuario alla partenza. \nore 10.25 Pontecurone omaggio al paese natale di San Luigi Orione e partenza ufficiale “44a DUE RUOTE PER DUE CAMPANILI” \nore 12.30 Sosta per il ristoro a PARONA LOMELLINA \nore 16 Attraversamento della Città di Seregno e arrivo al PICCOLO COTTOLENGO DON ORIONE in via Verdi\, incontro con gli ospiti dell’Istituto\, a seguire rinfresco e premiazioni per tutti i partecipanti presenti\, quindi ringraziamento a tutte le società\ne alle autorità Seregnesi e Tortonesi \nScarica la guida della manifestazione
URL:https://sport.seregno.eu/eventi/due-ruote-per-due-campanili/
CATEGORIES:Ciclismo
ATTACH;FMTTYPE=image/jpeg:https://sport.seregno.eu/wp-content/uploads/2025/04/2024-04-15_2ruotex2campanili_MANIFESTO_70x100_2025.jpg
END:VEVENT
BEGIN:VEVENT
DTSTART;TZID=UTC:20250524T043000
DTEND;TZID=UTC:20250524T190000
DTSTAMP:20260422T114844
CREATED:20250519T175145Z
LAST-MODIFIED:20250519T175145Z
UID:1061-1748061000-1748113200@sport.seregno.eu
SUMMARY:Trofeo Effebiquattro di Atletica Leggera
DESCRIPTION:Tradizionale appuntamento promozionale di Atletica 5 Cerchi
URL:https://sport.seregno.eu/eventi/trofeo-effebiquattro-di-atletica-leggera-2/
CATEGORIES:Atletica Leggera,Eventi sportivi
ATTACH;FMTTYPE=image/jpeg:https://sport.seregno.eu/wp-content/uploads/2025/05/Immagine-WhatsApp-2025-05-15-ore-12.39.47_df13a4c1.jpg
END:VEVENT
BEGIN:VEVENT
DTSTART;TZID=UTC:20250523T203000
DTEND;TZID=UTC:20250524T210000
DTSTAMP:20260422T114844
CREATED:20250423T103329Z
LAST-MODIFIED:20250423T103329Z
UID:1001-1748032200-1748120400@sport.seregno.eu
SUMMARY:Quando lo sport va oltre
DESCRIPTION:Doppio appuntamento per parlare di tennis e para-tennis\nCon Erreci Progetto Tennis \nconvegno 23 maggio ore 21 in sala Civica Gandini\nesibizione di tennis e paratennis al centro di via Porada 24 maggio ore 15
URL:https://sport.seregno.eu/eventi/quando-lo-sport-va-oltre/
CATEGORIES:Tennis
ATTACH;FMTTYPE=image/jpeg:https://sport.seregno.eu/wp-content/uploads/2025/04/05-23-24_Erreci_tennis.jpg
END:VEVENT
BEGIN:VEVENT
DTSTART;TZID=UTC:20250522T080000
DTEND;TZID=UTC:20250525T170000
DTSTAMP:20260422T114844
CREATED:20250423T131451Z
LAST-MODIFIED:20250519T174217Z
UID:1009-1747900800-1748192400@sport.seregno.eu
SUMMARY:Hockey su pista\, Finali Nazionali Under 17
DESCRIPTION:Al PalaSomaschini\, finali nazionali di Hockey Pista categoria Under 17. \nSegui in tempo reale su\nhttps://hockeypista.fisr.it
URL:https://sport.seregno.eu/eventi/hockey-su-pista-finali-nazionali-under-17/
CATEGORIES:Hockey su pista
ATTACH;FMTTYPE=image/jpeg:https://sport.seregno.eu/wp-content/uploads/2025/04/498011658_1438088577152278_4207191177887138798_n.jpg
END:VEVENT
BEGIN:VEVENT
DTSTART;TZID=UTC:20250518T183000
DTEND;TZID=UTC:20250518T200000
DTSTAMP:20260422T114844
CREATED:20250423T101353Z
LAST-MODIFIED:20250423T101353Z
UID:982-1747593000-1747598400@sport.seregno.eu
SUMMARY:Un passo in più
DESCRIPTION:INCONTRO CON L’AUTRICE GUENDALINA SIBONA \nBasta un passo per spingersi ogni volta un po’ più lontano\, verso nuovi obiettivi. La ultrarunner e scrittrice milanese ripercorre la sua avventura del Tor des Glaciers\, versione estrema del già proibitivo classico dell’endurance running sulle Alte Vie della Valle d’Aosta: 450 chilometri\, 32.000 metri di dislivello positivo\, 8 passi sopra i 3000 metri in un tempo massimo di 190 ore. Un percorso non segnato\, da fare quasi in completa autonomia\, sui sentieri più selvaggi e meno battuti della regione\, attraversandola dall’alto. Meno della metà dei partecipanti arriva alla fine. \nGuandalina Sibona\, scrittrice\, fotografa\, ultrarunner e appassionata di montagna\, nel 2021 ha pubblicato il libro Un giorno ancora. Il mio viaggio dentro il Tor. È stata la co-autrice di Campo Tre. Sul K2 in inverno e altre storie ostinate di Mattia Conte. \nModera Eva Musci\nA cura di libreria Un mondo di libri \nPRENOTA SU EVENTIBRITE
URL:https://sport.seregno.eu/eventi/un-passo-in-piu/
LOCATION:Sala Civica Monsignor Gandini\, Via XXIV Maggio\, 10\, Seregno\, Monza e Brianza\, 20831\, Italy
CATEGORIES:Conferenza
ATTACH;FMTTYPE=image/jpeg:https://sport.seregno.eu/wp-content/uploads/2025/04/guendalina_sibona.jpg
END:VEVENT
BEGIN:VEVENT
DTSTART;TZID=UTC:20250518T090000
DTEND;TZID=UTC:20250518T170000
DTSTAMP:20260422T114844
CREATED:20250226T173055Z
LAST-MODIFIED:20250226T173332Z
UID:781-1747558800-1747587600@sport.seregno.eu
SUMMARY:Tre frecce in compagnia
DESCRIPTION:Manifestazione sportiva organizzata dalla Asd Compagnia Arcieri Seregno.  \nPresso la palestra delle scuole Manzoni di viale Tiziano. \nAlle ore 9 inizio manifestazione.\nGara tra associati.\nDalle 13 prove gratuite.
URL:https://sport.seregno.eu/eventi/tre-frecce-in-compagnia/
CATEGORIES:Tiro con l'arco
ATTACH;FMTTYPE=image/jpeg:https://sport.seregno.eu/wp-content/uploads/2025/02/TRE_FRECCE_IN_COMPAGNIA1-2-scaled.jpg
END:VEVENT
BEGIN:VEVENT
DTSTART;TZID=UTC:20250517T100000
DTEND;TZID=UTC:20250517T200000
DTSTAMP:20260422T114844
CREATED:20250507T101611Z
LAST-MODIFIED:20250507T102125Z
UID:1038-1747476000-1747512000@sport.seregno.eu
SUMMARY:Skating Cup Show - Trofeo Soccornini
DESCRIPTION:Evento FISR a tappe per piccoli principianti di pattinaggio artistico
URL:https://sport.seregno.eu/eventi/skating-cup-show-trofeo-soccornin/
CATEGORIES:Pattinaggio Artistico
ATTACH;FMTTYPE=image/jpeg:https://sport.seregno.eu/wp-content/uploads/2025/05/socornini.jpg
END:VEVENT
END:VCALENDAR