BEGIN:VCALENDAR
VERSION:2.0
PRODID:-//Sport Seregno - ECPv6.9.0//NONSGML v1.0//EN
CALSCALE:GREGORIAN
METHOD:PUBLISH
X-ORIGINAL-URL:https://sport.seregno.eu
X-WR-CALDESC:Eventi per Sport Seregno
REFRESH-INTERVAL;VALUE=DURATION:PT1H
X-Robots-Tag:noindex
X-PUBLISHED-TTL:PT1H
BEGIN:VTIMEZONE
TZID:UTC
BEGIN:STANDARD
TZOFFSETFROM:+0000
TZOFFSETTO:+0000
TZNAME:UTC
DTSTART:20250101T000000
END:STANDARD
END:VTIMEZONE
BEGIN:VEVENT
DTSTART;TZID=UTC:20250119T090000
DTEND;TZID=UTC:20250119T180000
DTSTAMP:20260423T131017
CREATED:20250109T173110Z
LAST-MODIFIED:20250109T173110Z
UID:614-1737277200-1737309600@sport.seregno.eu
SUMMARY:HP Promote | Centri di perfezionamento
DESCRIPTION:I migliori prospetti giovanili dell’hockey pista di Lombardia e Piemonte partecipano ad un collegiale di perfezionamento organizzato dalla Federazione Sport Rotellistici.
URL:https://sport.seregno.eu/eventi/hp-promote-centri-di-perfezionamento/
LOCATION:PalaSomaschini\, via alla Porada\, Seregno\, Italia\, 20831\, Italy
CATEGORIES:Eventi sportivi,Hockey su pista
ATTACH;FMTTYPE=image/jpeg:https://sport.seregno.eu/wp-content/uploads/2025/01/Marchio-FISR-Naz.le-Vert.-1-678x381-1.jpg
END:VEVENT
END:VCALENDAR